Workbook

Sheet Kainos
B1: KAINŲ SKAIČIAVIMO MODELIS
B2: Perdavimo paslaugų kainų ir referencinių kainų (be PVM) 2023-2028 tarifiniams metams skaičiavimas (naudojantis AB „Amber Grid“ gamtinių dujų perdavimo sistemos infrastruktūra)
B4: Referencinės kainos (už nuolatinius metų pajėgumų produktus), dujų kiekiu grindžiamos kainos (kainos už kiekį) ir kainos už vartojimo pajėgumus
B5: Liepa, 2024 | G5: Pildoma | H5: Nepildoma
B6: Turi būti pildomi tik mėlyni laukeliai (pilki/žali laukeliai: skaičiavimai arba faktiniai įvesties ar išvesties duomenys; oranžiniai laukeliai: duomenys iš kito darbalaukio)
B9: PAAIŠKINIMAI: Šio kainų skaičiavimo modelio 3 darbalaukiai yra skirti šiems tikslams: - šis darbalaukis: referencinių kainų (už nuolatinius metų pajėgumų produktus), kainų už kiekį, kainų už vartojimo pajėgumus (pagrindiniai įvesties parametrai turi būti įvedami šiame darbalaukyje); - darbalaukis DG_SK, Trumpal. kainos: trumpalaikių nuolatinių pajėgumų produktų kainų iki 2028 m. skaičiavimui, įskaitant daugiklių ir sezoninių koeficientų įvesties duomenis; - paskutinis darbalaukis: bendrų sezoninių koeficientų taikomų Vidiniuose ir Šakių išleidimo taškuose 2024 m. - 2028m. skaičiavimui. | E9: ! Nepriklausomai nuo įvesties duomenų, įleidimo/išleidimo proporcijos, kaip įvesties parametro, įleidimo (%) dalis 2023-2024 m. (šio darbalaukio laukeliai E75:F76) turi būti pakoreguoti taip, kad referencinė kaina Kotlovkos įleidimo taške (laisvai skirstomiems pajėgumams) (šio darbalaukio laukelis F120:H120) būtų lygi 142,77 Eur (kaip taikoma FINESTLAT kainų zonoje)
E10: Tarifų metai 2023 | F10: Tarifų metai 2024 | G10: Tarifų metai 2025 | H10: Tarifų metai 2026 | I10: Tarifų metai 2027 | J10: Tarifų metai 2028
B11: Leidžiamosios pajamos (LP) (kaip įveretinta 2019/2020/2021 m. kainų skaičiavime): | C11: TEUR | E11: =E12+E13+E14 -> 64167 | F11: =F12+F13+F14 -> 67011 | G11: =G12+G13+G14 -> 63828.11 | H11: =H12+H13+H14 -> 69784.026 | I11: =I12+I13+I14 -> 72905.968 | J11: =J12+J13+J14 -> 78410.194
B12: iš jų LP, nevertinant Reguliavimo sąskaitos ir CBCA | C12: TEUR | E12: =E25 -> 61283.96 | F12: =F25 -> 69017.33 | G12: =G25 -> 68449.17 | H12: =H25 -> 69784.026 | I12: =I25 -> 72905.968 | J12: =J25 -> 78410.194
B13: iš jų - Reguliavimo sąskaita | C13: TEUR | E13: -10866.96 | F13: -7506.33 | G13: -4621.06
B14: iš jų - CBCA | C14: TEUR | E14: 13750 | F14: 5500
B16: SGDT nuolaidos perskirstymas už praėjusius laikotarpius ES išleidimo taškams (priskiriam. Pagrindiniam tinklui) | C16: TEUR | E16: 0 | F16: 0 | G16: 0 | H16: 0 | I16: 0 | J16: 0
B17: iš jų (LT>LV) Kiemėnų | C17: TEUR | E17: =E20*E98/(E98+E99) -> 906.76246 | F17: =F20*F98/(F98+F99) -> 187.81965
B18: iš jų (LT>LV) Santakos išleidimo taškui | C18: TEUR | E18: =E20*E99/(E99+E98) -> 922.30002 | F18: =F20*F99/(F99+F98) -> 310.68048
B19: iš jų (LT) vidiniams išleidimo taškams | C19: TEUR | E19: =+-E20 -> -1829.0625 | F19: =-F20 -> -498.50013
B20: SGDT nuolaidos perskirstymas už 2020-2022 m. ES išleidimo taškams (priskiriam. Pagrindiniam tinklui) | E20: =+E21+E22+E23 -> 1829.0625 | F20: =+F23-E23 -> 498.50013
B21: SGDT galutinis nuolaidos perskirstymas už 2020 m. ES išleidimo taškams (priskiriam. Pagrindiniam tinklui) 2023 m. | C21: TEUR | E21: 294.1413
B22: SGDT galutinis nuolaidos perskirstymas už 2021 m. ES išleidimo taškams (priskiriam. Pagrindiniam tinklui) 2023 m. | C22: TEUR | E22: =+((142.77-35.69)*35643.2023712329/1000*(7832.87/(7832.87+115105.03)-7370.07698630137/(7370.07698630137+88612.6160263562))) -> -49.889429
B23: SGDT tarpinis nuolaidos perskirstymas už 2022 m. ES išleidimo taškams (priskiriam. Pagrindiniam tinklui) 2023 m. SGDT galutinis nuolaidos perskirstymas už 2022 m. ES išleidimo taškams (priskiriam. Pagrindiniam tinklui) 2024 m. | C23: TEUR | E23: =+(142.77-142.77*0.25)*60763.4036185144/1000*((10413676/6277847.07333333*24956.9732357301+6792200/523431*2738.13332328323)/(10413676/6277847.07333333*24956.9732357301+20571368/23252511.026*105902.092917539+6792200/523431*2738.13332328323)-(24956.9732357301+2738.13332328323)/(24956.9732357301+105902.092917539+2738.13332328323)) -> 1584.8106 | F23: =+(142.77-142.77*0.25)*60763.4036185144/1000*((73840.2230207305+28556.9604167919)/(73840.2230207305+91721.6377630208+28556.9604167919)-(24956.9732357301+2738.13332328323)/(24956.9732357301+105902.092917539+2738.13332328323)) -> 2083.3107
B25: LP priskyrimas paslaugoms iki Reguliavimo sąskaitos įvertinimo: | C25: TEUR | E25: =E26+E28 -> 61283.96 | F25: =F26+F28 -> 69017.33 | G25: =G26+G28 -> 68449.17 | H25: =H26+H28 -> 69784.026 | I25: =I26+I28 -> 72905.968 | J25: =J26+J28 -> 78410.194
B26: iš jų priskirta Pagrindiniam tinklui (pradinis lygis perdavimo Pagrindiniu tinklu paslaugų referencinėms kainoms nustatyti (už nuolatinius metų pajėgumų produktus)) | C26: TEUR | E26: 41364.908 | F26: 55566.797 | G26: 55415.772 | H26: 56576.811 | I26: 59036.258 | J26: 63085.507
B27: iš jų priskirta transportavimo į trečiąją šalį paslaugai | C27: TEUR | E27: 11442.758 | F27: 12868.14 | G27: 13447.641 | H27: 13672.615 | I27: 14352.617 | J27: 15717.912
B28: iš jų priskirta Lokaliam tinklui | C28: TEUR | E28: 19919.052 | F28: 13450.533 | G28: 13033.398 | H28: 13207.214 | I28: 13869.71 | J28: 15324.687
B29: iš jų priskirta Vidaus išleidimo taškui - Achema | C29: TEUR | E29: 1142.3785 | F29: 745.0821 | G29: 670.20827 | H29: 686.57809 | I29: 717.21359 | J29: 766.12488
B30: iš jų priskirta Vidaus išleidimo taškui | C30: TEUR | E30: =+E28-E29 -> 18776.673 | F30: =+F28-F29 -> 12705.451 | G30: =+G28-G29 -> 12363.189 | H30: =+H28-H29 -> 12520.636 | I30: =+I28-I29 -> 13152.496 | J30: =+J28-J29 -> 14558.562
B31: pajamų už vartojimo pajėgumus dalis Lokalaus tinklo paslaugų pajamose | C31: TEUR | E31: =+E32+E33 -> 13943.336 | F31: =+F32+F33 -> 9415.3729 | G31: =+G32+G33 -> 9123.3783 | H31: =+H32+H33 -> 9245.05 | I31: =+I32+I33 -> 9708.7968 | J31: =+J32+J33 -> 10727.281
B32: iš jų vidaus išleidimo taško - Achema | C32: TEUR | E32: =E29*E37 -> 799.66494 | F32: =F29*F37 -> 521.55747 | G32: =G29*G37 -> 469.14579 | H32: =H29*H37 -> 480.60467 | I32: =I29*I37 -> 502.04951 | J32: =J29*J37 -> 536.28741
B33: iš jų Vidaus išleidimo taškui | C33: TEUR | E33: =+E30*E37 -> 13143.671 | F33: =+F30*F37 -> 8893.8154 | G33: =+G30*G37 -> 8654.2325 | H33: =+H30*H37 -> 8764.4453 | I33: =+I30*I37 -> 9206.7473 | J33: =+J30*J37 -> 10190.994
B34: pajamų dalis už Lokalaus tinklo paslaugas priskirta už ilgalaikius pajėgus vidaus išleidimo taškuose | C34: TEUR | E34: =+E35+E36 -> 5975.7156 | F34: =+F35+F36 -> 4035.1598 | G34: =+G35+G36 -> 3910.0193 | H34: =+H35+H36 -> 3962.1643 | I34: =+I35+I36 -> 4160.9129 | J34: =+J35+J36 -> 4597.4062
B35: iš jų vidaus išleidimo taško - Achema | C35: TEUR | E35: =+E29-E32 -> 342.71354 | F35: =+F29-F32 -> 223.52463 | G35: =+G29-G32 -> 201.06248 | H35: =+H29-H32 -> 205.97343 | I35: =+I29-I32 -> 215.16408 | J35: =+J29-J32 -> 229.83746
B36: iš jų Vidaus išleidimo taškui | C36: TEUR | E36: =+E30-E33 -> 5633.002 | F36: =+F30-F33 -> 3811.6352 | G36: =+G30-G33 -> 3708.9568 | H36: =+H30-H33 -> 3756.1908 | I36: =+I30-I33 -> 3945.7488 | J36: =+J30-J33 -> 4367.5687
B37: pajamų už vartojimo pajėgumus dalis Lokalaus tinklo paslaugų pajamose | C37: % | E37: 0.7 | F37: 0.7 | G37: 0.7 | H37: 0.7 | I37: 0.7 | J37: 0.7
B38: pajamų dalis už Lokalaus tinklo paslaugas priskirta už ilgalaikius pajėgus vidaus išleidimo taškuose | C38: % | E38: =1-E37 -> 0.3 | F38: =1-F37 -> 0.3 | G38: =1-G37 -> 0.3 | H38: =1-H37 -> 0.3 | I38: =1-I37 -> 0.3 | J38: =1-J37 -> 0.3
B40: Reguliavimo sąskaitos priskyrimas Pagrindiniam ir Lokaliam tinklams: | C40: TEUR | E40: =E41+E43 -> -10866.96 | F40: =F41+F43 -> -7506.33 | G40: =G41+G43 -> -4621.06 | H40: =H41+H43 -> 0 | I40: =I41+I43 -> 0 | J40: =J41+J43 -> 0
B41: iš jų priskirta Pagrindiniam tinklui | C41: TEUR | E41: =E13*E42 -> -3518.0706 | F41: =F13*F42 -> -3361.0512 | G41: =G13*G42 -> -1689.6883 | H41: =H13*H42 -> 0 | I41: =I13*I42 -> 0 | J41: =J13*J42 -> 0
C42: % | E42: =1-E44 -> 0.32374009 | F42: =1-F44 -> 0.44776225 | G42: =1-G44 -> 0.3656495 | H42: =1-H44 -> 0.37121483 | I42: =1-I44 -> 0.37895943 | J42: =1-J44 -> 0.38584442
B43: iš jų priskirta Lokaliam tinklui | C43: TEUR | E43: =E13*E44 -> -7348.8894 | F43: =F13*F44 -> -4145.2788 | G43: =G13*G44 -> -2931.3717 | H43: =H13*H44 -> 0 | I43: =I13*I44 -> 0 | J43: =J13*J44 -> 0
C44: % | E44: =E28/(E28+((E69*E76+(E120-E124)*E94/1000)/(E98+E101+E99)*1000)*E101/1000+E14*E101/(E101+E98+E99)) -> 0.67625991 | F44: =F28/(F28+((F69*F76+(F120-F124)*F94/1000)/(F98+F101+F99)*1000)*F101/1000+F14*F101/(F101+F98+F99)) -> 0.55223775 | G44: =G28/(G28+((G69*G76+(G120-G124)*G94/1000)/(G98+G101+G99)*1000)*G101/1000+G14*G101/(G101+G98+G99)) -> 0.6343505 | H44: =H28/(H28+((H69*H76+(H120-H124)*H94/1000)/(H98+H101+H99)*1000)*H101/1000+H14*H101/(H101+H98+H99)) -> 0.62878517 | I44: =I28/(I28+((I69*I76+(I120-I124)*I94/1000)/(I98+I101+I99)*1000)*I101/1000+I14*I101/(I101+I98+I99)) -> 0.62104057 | J44: =J28/(J28+((J69*J76+(J120-J124)*J94/1000)/(J98+J101+J99)*1000)*J101/1000+J14*J101/(J101+J98+J99)) -> 0.61415558
B46: LP priskyrimas paslaugoms po Reguliavimo sąskaitos įvertinimo: | C46: TEUR | E46: =E47+E49 -> 50417 | F46: =F47+F49 -> 61511 | G46: =G47+G49 -> 63828.11 | H46: =H47+H49 -> 69784.026 | I46: =I47+I49 -> 72905.968 | J46: =J47+J49 -> 78410.194
B47: iš jų priskirta Pagrindiniam tinklui (lygis perdavimo Pagrindiniu tinklu paslaugų referencinėms kainoms nustatyti (už nuolatinius metų pajėgumų produktus)) | C47: TEUR | E47: =E26+E41 -> 37846.837 | F47: =F26+F41 -> 52205.746 | G47: =G26+G41 -> 53726.084 | H47: =H26+H41 -> 56576.811 | I47: =I26+I41 -> 59036.258 | J47: =J26+J41 -> 63085.507
B48: iš jų priskirta transportavimo į trečiąją šalį paslaugai | C48: TEUR | E48: =E27 -> 11442.758 | F48: =F27 -> 12868.14 | G48: =G27 -> 13447.641 | H48: =H27 -> 13672.615 | I48: =I27 -> 14352.617 | J48: =J27 -> 15717.912
B49: iš jų priskirta Lokaliam tinklui | C49: TEUR | E49: =E28+E43 -> 12570.163 | F49: =F28+F43 -> 9305.2539 | G49: =G28+G43 -> 10102.026 | H49: =H28+H43 -> 13207.214 | I49: =I28+I43 -> 13869.71 | J49: =J28+J43 -> 15324.687
B50: iš jų priskirta vidaus išleidimo taško - Achema | C50: TEUR | E50: =E49/E28*E29 -> 720.91198 | F50: =F49/F28*F29 -> 515.45751 | G50: =G49/G28*G29 -> 519.47017 | H50: =H49/H28*H29 -> 686.57809 | I50: =I49/I28*I29 -> 717.21359 | J50: =J49/J28*J29 -> 766.12488
B51: iš jų priskirta vidaus išleidimo taško | C51: TEUR | E51: =+E49-E50 -> 11849.251 | F51: =+F49-F50 -> 8789.7964 | G51: =+G49-G50 -> 9582.5557 | H51: =+H49-H50 -> 12520.636 | I51: =+I49-I50 -> 13152.496 | J51: =+J49-J50 -> 14558.562
B52: iš jų priskirta Lokaliam tinklui vartojimo pajėgumams | C52: TEUR | E52: =+E53+E54 -> 8799.1138 | F52: =+F53+F54 -> 6513.6777 | G52: =+G53+G54 -> 7071.4181 | H52: =+H53+H54 -> 9245.05 | I52: =+I53+I54 -> 9708.7968 | J52: =+J53+J54 -> 10727.281
B53: iš jų priskirta pajamoms už vartojimo pajėgumus vidaus išleidimo taško | C53: TEUR | E53: =E51*E37 -> 8294.4754 | F53: =F51*F37 -> 6152.8575 | G53: =G51*G37 -> 6707.789 | H53: =H51*H37 -> 8764.4453 | I53: =I51*I37 -> 9206.7473 | J53: =J51*J37 -> 10190.994
B54: iš jų priskirta pajamoms už vartojimo pajėgumus vidaus išleidimo taško - Achema | C54: TEUR | E54: =E50*E37 -> 504.63839 | F54: =F50*F37 -> 360.82026 | G54: =G50*G37 -> 363.62912 | H54: =H50*H37 -> 480.60467 | I54: =I50*I37 -> 502.04951 | J54: =J50*J37 -> 536.28741
B55: iš jų priskirta pagr. tinklui dėl lokalaus tinklo | C55: TEUR | E55: =+E57+E56 -> 3771.0488 | F55: =+F57+F56 -> 2791.5762 | G55: =+G57+G56 -> 3030.6078 | H55: =+H57+H56 -> 3962.1643 | I55: =+I57+I56 -> 4160.9129 | J55: =+J57+J56 -> 4597.4062
B56: iš jų priskirta pajamoms už ilgalaikius pajėgumus dėl lokalaus tinklo vidaus išleidimo taško | C56: TEUR | E56: =+E51-E53 -> 3554.7752 | F56: =+F51-F53 -> 2636.9389 | G56: =+G51-G53 -> 2874.7667 | H56: =+H51-H53 -> 3756.1908 | I56: =+I51-I53 -> 3945.7488 | J56: =+J51-J53 -> 4367.5687
B57: iš jų priskirta pajamoms už ilgalaikius pajėgumus dėl lokalaus tinklo vidaus išleidimo taško - Achema | C57: TEUR | E57: =+E50-E54 -> 216.27359 | F57: =+F50-F54 -> 154.63725 | G57: =+G50-G54 -> 155.84105 | H57: =+H50-H54 -> 205.97343 | I57: =+I50-I54 -> 215.16408 | J57: =+J50-J54 -> 229.83746
B59: LP dalis, priskirtina trumpalaikėms paslaugoms (nuo 2020 m. LP dalis nėra priskiriamo šioms paslaugoms, nes metų pajėgumų produktų kainos yra skaičiuojamos pagal bendrą metų pajėgumų ekvivalento prognozę): | C59: TEUR
B60: iš jų priskirta Pagrindiniam tinklui | C60: TEUR
B61: iš jų priskirta Lokaliam tinklui | C61: TEUR
B63: LP dalis, priskitina perdavimo Pagrindiniu tinklu paslaugų referencinėms kainoms (už nuolatinius metų pajėgumus), perdavimo Lokaliu tinklu ilgalaikių paslaugų kainoms ir kainoms už kiekį skaičiuoti: | C63: TEUR
B64: LP dalis, priskirtina Pagrindinio tinklo paslaugoms (iki Reguliavimo sąskaitos įvertinimo): | C64: TEUR | E64: =E65+E66 -> 41364.908 | F64: =F65+F66 -> 55566.797 | G64: =G65+G66 -> 55415.772 | H64: =H65+H66 -> 56576.811 | I64: =I65+I66 -> 59036.258 | J64: =J65+J66 -> 63085.507
B65: iš jų priskirta transportavimo į trečiąją šalį paslaugai | C65: TEUR | E65: =E27 -> 11442.758 | F65: =F27 -> 12868.14 | G65: =G27 -> 13447.641 | H65: =H27 -> 13672.615 | I65: =I27 -> 14352.617 | J65: =J27 -> 15717.912
B66: iš jų priskirta dujų perdavimo ES poreikiams Pagrindiniu tinklu paslaugai | C66: TEUR | E66: =E26-E27 -> 29922.15 | F66: =F26-F27 -> 42698.658 | G66: =G26-G27 -> 41968.131 | H66: =H26-H27 -> 42904.197 | I66: =I26-I27 -> 44683.641 | J66: =J26-J27 -> 47367.595
B68: iš jų priskirta transportavimo į trečiąją šalį paslaugai už pajėgumu grindžiamas kainas | C68: TEUR | E68: =E65-E71 -> 9026.3972 | F68: =F65-F71 -> 8355.1261 | G68: =G65-G71 -> 10682.689 | H68: =H65-H71 -> 10913.396 | I68: =I65-I71 -> 11593.34 | J68: =J65-J71 -> 12971.152
B69: iš jų priskirta dujų perdavimo ES poreikiams Pagrindiniu tinklu paslaugai už pajėgumu grindžiamas kainas | C69: TEUR | E69: =E66-E72 -> 26210.115 | F69: =F66-F72 -> 35716.418 | G69: =G66-G72 -> 37707.773 | H69: =H66-H72 -> 38638.415 | I69: =I66-I72 -> 40417.918 | J69: =J66-J72 -> 43089.355
B71: iš jų priskirta transportavimo į trečiąją šalį paslaugai už kiekiu grindžiamas kainas | C71: TEUR | E71: =IF(E80=0%,0,E109*E137/1000) -> 2416.3608 | F71: =IF(F80=0%,0,F109*F137/1000) -> 4513.0134 | G71: =IF(G80=0%,0,G109*G137/1000) -> 2764.9522 | H71: =IF(H80=0%,0,H109*H137/1000) -> 2759.2187 | I71: =IF(I80=0%,0,I109*I137/1000) -> 2759.2777 | J71: =IF(J80=0%,0,J109*J137/1000) -> 2746.7596
B72: iš jų priskirta dujų perdavimo ES poreikiams Pagrindiniu tinklu paslaugai už kiekiu grindžiamas kainas | C72: TEUR | E72: =IF(E80=0%,0,(E106-E109)*E148/1000) -> 3712.0352 | F72: =IF(F80=0%,0,(F106-F109)*F148/1000) -> 6982.2395 | G72: =IF(G80=0%,0,(G106-G109)*G148/1000) -> 4260.3582 | H72: =IF(H80=0%,0,(H106-H109)*H148/1000) -> 4265.7813 | I72: =IF(I80=0%,0,(I106-I109)*I148/1000) -> 4265.7223 | J72: =IF(J80=0%,0,(J106-J109)*J148/1000) -> 4278.2404
B74: Įleidimo / išleidimo pajamų proporcija (angl. Entry/Exit split) (pradinė/kaip įvesties parametras)
B75: Įleidimo | C75: % | E75: 0.87364996 | F75: 0.61603965 | G75: 0.58402221 | H75: 0.57067423 | I75: 0.54517387 | J75: 0.51571111
B76: Išleidimo | C76: % | E76: =1-E75 -> 0.12635004 | F76: =1-F75 -> 0.38396035 | G76: =1-G75 -> 0.41597779 | H76: =1-H75 -> 0.42932577 | I76: =1-I75 -> 0.45482613 | J76: =1-J75 -> 0.48428889
B78: Pajėgumų / kiekio pajamų proporcija (angl. Capacity/commodity split) (2019 m. - bendra, nuo 2020 m. - tik už Pagrindinį tinklą)
B79: Pajėgumai | C79: % | E79: 0.9 | F79: 0.83344396 | G79: 0.89736456 | H79: 0.89933226 | I79: 0.903643 | J79: 0.91040706
B80: Kiekis | C80: % | E80: =1-E79 -> 0.1 | F80: =1-F79 -> 0.16655604 | G80: =1-G79 -> 0.10263544 | H80: =1-H79 -> 0.10066774 | I80: =1-I79 -> 0.096356996 | J80: =1-J79 -> 0.089592942
B82: SGD įleidimo (Klaipėdos) taško nuolaida | C82: % | E82: 0 | F82: 0 | G82: 0 | H82: 0 | I82: 0 | J82: 0
B83: Santakta įleidimo taško nuolaida | C83: % | E83: 0 | F83: 0 | G83: 0 | H83: 0 | I83: 0 | J83: 0
B85: Įleidimo / išleidimo pajamų proporcija (angl. Entry/Exit split) (kaip Referencinės kainų metodikos (RKM) taikymo rezultatas)
B86: Įleidimo | C86: % | E86: =((E93+E95)*E120/1000+E94*E124/1000+(E68-E100*E127/1000))/(E25-E72-E71) -> 0.48635706 | F86: =((F93+F95)*F120/1000+F94*F124/1000+(F68-F100*F127/1000))/(F25-F72-F71) -> 0.45077583 | G86: =((G93+G95)*G120/1000+G94*G124/1000+(G68-G100*G127/1000))/(G25-G72-G71) -> 0.41758657 | H86: =((H93+H95)*H120/1000+H94*H124/1000+(H68-H100*H127/1000))/(H25-H72-H71) -> 0.40580758 | I86: =((I93+I95)*I120/1000+I94*I124/1000+(I68-I100*I127/1000))/(I25-I72-I71) -> 0.38353126 | J86: =((J93+J95)*J120/1000+J94*J124/1000+(J68-J100*J127/1000))/(J25-J72-J71) -> 0.35540272
B87: Išleidimo | C87: % | E87: =1-E86 -> 0.51364294 | F87: =1-F86 -> 0.54922417 | G87: =1-G86 -> 0.58241343 | H87: =1-H86 -> 0.59419242 | I87: =1-I86 -> 0.61646874 | J87: =1-J86 -> 0.64459728
B89: Užsakomų pajėgumų prognozė (pajėgumu grindžiamų perdavimo kainų išvedimui)
B90: Įleidimo taškų suma transportavimui į išleidimo taškus, kitus nei į Šakių išleidimo tašką, iš viso | C90: MWh/parą/metus | E90: =E93+E94+E95 -> 160387.1 | F90: =F93+F94+F95 -> 154113.12 | G90: =G93+G94+G95+G92+G91 -> 154249.33 | H90: =H93+H94+H95+H92+H91 -> 154443.85 | I90: =I93+I94+I95+I92+I91 -> 154337.7 | J90: =J93+J94+J95+J92+J91 -> 155646.56
B91: (BY>LT) Kotlovkos įleidimo taškas | C91: MWh/parą/metus | E91: 0 | F91: 0 | G91: 0 | H91: 0 | I91: 0 | J91: 0
B92: LT Vidaus įleidimo taškas | C92: MWh/parą/metus | E92: 0 | F92: 0 | G92: 2095.8904 | H92: 3563.0137 | I92: 4862.4658 | J92: 5449.3151
B93: (LV>LT) Kiemėnų įleidimo taškas | C93: MWh/parą/metus | E93: 15533.612 | F93: 11617.34 | G93: 10862.926 | H93: 10862.926 | I93: 9811.8105 | J93: 10326.062
B94: (SGDT>LT) Klaipėdos įleidimo taškas | C94: MWh/parą/metus | E94: 121408.55 | F94: 126356.46 | G94: 132035.15 | H94: 132031.41 | I94: 132031.41 | J94: 132031.41
B95: (LV>LT) Santakos įleidimo taškas | C95: MWh/parą/metus | E95: 23444.932 | F95: 16139.317 | G95: 9255.3668 | H95: 7986.4953 | I95: 7632.0095 | J95: 7839.771
B96: (BY>LT) Kotlovkos įleidimo taškas (apribotasis pajėgumų produktas) | C96: MWh/parą/metus | E96: 109200 | F96: 109200 | G96: 109200 | H96: 109200 | I96: 109200 | J96: 109200
B97: Išleidimo taškų suma iš viso | C97: MWh/parą/metus | E97: =SUM(E98:E101) -> 290998.6 | F97: =SUM(F98:F101) -> 295595.63 | G97: =SUM(G98:G101) -> 295279.24 | H97: =SUM(H98:H101) -> 295649.5 | I97: =SUM(I98:I101) -> 295261.47 | J97: =SUM(J98:J101) -> 296933.09
B98: (LT>LV) Kiemėnų išleidimo taškas | C98: MWh/parą/metus | E98: 39755.494 | F98: 30365.959 | G98: 49042.099 | H98: 49104.474 | I98: 49105.314 | J98: 49104.578
B99: (LT>PL) Santakos išleidimo taškas | C99: MWh/parą/metus | E99: 40436.712 | F99: 50229.625 | G99: 47914.051 | H99: 49707.681 | I99: 51296.324 | J99: 52013.776
B100: (LT>RU) Šakių išleidimo taškas | C100: MWh/parą/metus | E100: 109200 | F100: 109200 | G100: 109200 | H100: 109200 | I100: 109200 | J100: 109200
B101: (LT) Vidiniai išleidimo taškai: | C101: MWh/parą/metus | E101: =E102+E103 -> 101606.39 | F101: =F102+F103 -> 105800.05 | G101: =G102+G103 -> 89123.094 | H101: =H102+H103 -> 87637.341 | I101: =I102+I103 -> 85659.834 | J101: =J102+J103 -> 86614.734
B102: Vidinis išleidimo taškas | C102: MWh/parą/metus | E102: 59606.391 | F102: 63800.047 | G102: 51880.527 | H102: 50394.774 | I102: 48417.267 | J102: 49270.132
B103: Vidinis išleidimo taškas - Achema | C103: MWh/parą/metus | E103: 42000 | F103: 42000 | G103: 37242.567 | H103: 37242.567 | I103: 37242.567 | J103: 37344.601
B105: Dujų srautų ir vartojimo pajėgumų prognozė (kiekiu grindžiamų perdavimo (naudojantis Pagrindinio tinklo paslaugomis) kainų ir Lokalaus tinklo kainų išvedimui)
B106: Visi išleidimo taškai: bendra išleidž. dujų srautų suma kiekiu grindžiamų perdav. kainų išvedimui | C106: MWh/metus | E106: =SUM(E107:E110) -> 66626084 | F106: =SUM(F107:F110) -> 66225501 | G106: =SUM(G107:G110) -> 65300191 | H106: =SUM(H107:H110) -> 65432991 | I106: =SUM(I107:I110) -> 65431591 | J106: =SUM(J107:J110) -> 65729791
B107: (LT>LV) Kiemėnų išleidimo taškas | C107: MWh/metus | E107: 9674027.2 | F107: 7700000 | G107: 13314613 | H107: 13331548 | I107: 13331776 | J107: 13331576
B108: (LT) Vidinis išleidimo taškas | C108: MWh/metus | E108: 22646291 | F108: 21051465 | G108: 16935662 | H108: 16701528 | I108: 16389900 | J108: 16548300
B109: (LT>RU) Šakių išleidimo taškas | C109: MWh/metus | E109: 26269950 | F109: 26000000 | G109: 25700204 | H109: 25700204 | I109: 25700204 | J109: 25700204
B110: (LT>LV) Santaka išleidimo taškas | C110: MWh/metus | E110: 8035816 | F110: 11474036 | G110: 9349712 | H110: 9699712 | I110: 10009712 | J110: 10149712
B111: (LT) Vidinis išleidimo taškas: vartojimo pajėgumai Lokalaus tinklo kainų išvedimui | C111: MWh/parą/metus | E111: =E112+E113 -> 168060.73 | F111: =F112+F113 -> 161519.01 | G111: =G112+G113 -> 157156.43 | H111: =H112+H113 -> 157156.43 | I111: =I112+I113 -> 157156.43 | J111: =J112+J113 -> 157156.43
B112: Vidinis išleidimo taškas | C112: MWh/parą/metus | E112: 126060.73 | F112: 119519.01 | G112: 133156.43 | H112: 133156.43 | I112: 133156.43 | J112: 133156.43
B113: Vidinis išleidimo taškas - Achema | C113: MWh/parą/metus | E113: 42000 | F113: 42000 | G113: 24000 | H113: 24000 | I113: 24000 | J113: 24000
B114: (LT) Vidiniai išleidimo taškai: | C114: MWh/metus | E114: =ROUND(E108,0) -> 22646291 | F114: =ROUND(F108,0) -> 21051465 | G114: =ROUND(G108,0) -> 16935662 | H114: =ROUND(H108,0) -> 16701528 | I114: =ROUND(I108,0) -> 16389900 | J114: =ROUND(J108,0) -> 16548300
B115: Vidinis išleidimo taškas | C115: MWh/metus | E115: 9758215.8 | F115: 10121465 | G115: 8175662.3 | H115: 7941527.8 | I115: 7629899.7 | J115: 7764299.7
B116: Vidinis išleidimo taškas - Achema | C116: MWh/metus | E116: =E114-E115 -> 12888075 | F116: =F114-F115 -> 10930000 | G116: =G114-G115 -> 8759999.7 | H116: =H114-H115 -> 8760000.2 | I116: =I114-I115 -> 8760000.3 | J116: =J114-J115 -> 8784000.3
B118: PERDAVIMO KAINOS: | E118: Tarifų metai 2023 | F118: Tarifų metai 2024 | G118: Tarifų metai 2025 | H118: Tarifų metai 2026 | I118: Tarifų metai 2027 | J118: Tarifų metai 2028
...

Sheet DG_SK, Trumpal. kainos
B1: Perdavimo paslaugų trumpalaikių nuolatinių pajėgumų produktų kainos
B3: Liepa, 2024
B4: Turi būti pildomi tik mėlyni laukeliai
B6: DAUGIKLIAI, SEZONINIAI KOEFICIENTAI, DIENŲ SKAIČIUS PAGAL PERIODUS:
B8: Kalendorinių dienų bei valandų skaičius metuose/ketvirčiuose/mėnesiuose:
B9: Tarifiniai metai | C9: Dienų skaičius metuose | D9: Dienų skaičius ketvirtyje (K) | H9: Dienų skaičius mėnesyje (M) | T9: Valandų skaičius metuose | U9: Dienų skaičius ketvirtyje (K) | Y9: Dienų skaičius mėnesyje (M)
D10: I K | E10: II K | F10: III K | G10: IV K | H10: Sau | I10: Vas | J10: Kov | K10: Bal | L10: Geg | M10: Bir | N10: Lie | O10: Rgp | P10: Rgs | Q10: Spl | R10: Lap | S10: Grd | U10: I K | V10: II K | W10: III K | X10: IV K | Y10: Sau | Z10: Vas | AA10: Kov | AB10: Bal | AC10: Geg | AD10: Bir | AE10: Lie | AF10: Rgp | AG10: Rgs | AH10: Spl | AI10: Lap | AJ10: Grd
B11: 2023 | C11: 365 | D11: 90 | E11: 91 | F11: 92 | G11: 92 | H11: 31 | I11: 28 | J11: 31 | K11: 30 | L11: 31 | M11: 30 | N11: 31 | O11: 31 | P11: 30 | Q11: 31 | R11: 30 | S11: 31 | T11: 8760 | U11: 2160 | V11: 2184 | W11: 2208 | X11: 2208 | Y11: 744 | Z11: 672 | AA11: 744 | AB11: 720 | AC11: 744 | AD11: 720 | AE11: 744 | AF11: 744 | AG11: 720 | AH11: 744 | AI11: 720 | AJ11: 744
B12: 2024 | C12: 366 | D12: 91 | E12: 91 | F12: 92 | G12: 92 | H12: 31 | I12: 29 | J12: 31 | K12: 30 | L12: 31 | M12: 30 | N12: 31 | O12: 31 | P12: 30 | Q12: 31 | R12: 30 | S12: 31 | T12: 8784 | U12: 2184 | V12: 2184 | W12: 2208 | X12: 2208 | Y12: 744 | Z12: 696 | AA12: 744 | AB12: 720 | AC12: 744 | AD12: 720 | AE12: 744 | AF12: 744 | AG12: 720 | AH12: 744 | AI12: 720 | AJ12: 744
B13: 2025 | C13: 365 | D13: 90 | E13: 91 | F13: 92 | G13: 92 | H13: 31 | I13: 28 | J13: 31 | K13: 30 | L13: 31 | M13: 30 | N13: 31 | O13: 31 | P13: 30 | Q13: 31 | R13: 30 | S13: 31 | T13: 8760 | U13: 2160 | V13: 2184 | W13: 2208 | X13: 2208 | Y13: 744 | Z13: 672 | AA13: 744 | AB13: 720 | AC13: 744 | AD13: 720 | AE13: 744 | AF13: 744 | AG13: 720 | AH13: 744 | AI13: 720 | AJ13: 744
B14: 2026 | C14: 365 | D14: 90 | E14: 91 | F14: 92 | G14: 92 | H14: 31 | I14: 28 | J14: 31 | K14: 30 | L14: 31 | M14: 30 | N14: 31 | O14: 31 | P14: 30 | Q14: 31 | R14: 30 | S14: 31 | T14: 8760 | U14: 2160 | V14: 2184 | W14: 2208 | X14: 2208 | Y14: 744 | Z14: 672 | AA14: 744 | AB14: 720 | AC14: 744 | AD14: 720 | AE14: 744 | AF14: 744 | AG14: 720 | AH14: 744 | AI14: 720 | AJ14: 744
B15: 2027 | C15: 365 | D15: 90 | E15: 91 | F15: 92 | G15: 92 | H15: 31 | I15: 28 | J15: 31 | K15: 30 | L15: 31 | M15: 30 | N15: 31 | O15: 31 | P15: 30 | Q15: 31 | R15: 30 | S15: 31 | T15: 8760 | U15: 2160 | V15: 2184 | W15: 2208 | X15: 2208 | Y15: 744 | Z15: 672 | AA15: 744 | AB15: 720 | AC15: 744 | AD15: 720 | AE15: 744 | AF15: 744 | AG15: 720 | AH15: 744 | AI15: 720 | AJ15: 744
B16: 2028 | C16: 366 | D16: 91 | E16: 91 | F16: 92 | G16: 92 | H16: 31 | I16: 29 | J16: 31 | K16: 30 | L16: 31 | M16: 30 | N16: 31 | O16: 31 | P16: 30 | Q16: 31 | R16: 30 | S16: 31 | T16: 8784 | U16: 2184 | V16: 2184 | W16: 2208 | X16: 2208 | Y16: 744 | Z16: 696 | AA16: 744 | AB16: 720 | AC16: 744 | AD16: 720 | AE16: 744 | AF16: 744 | AG16: 720 | AH16: 744 | AI16: 720 | AJ16: 744
B18: Daugikliai (DG) (ketvirčio (K), mėnesio (M), paros/einamosios paros (P/EP) pajėgumų produktams):
B19: Tariff year | D19: Visiems įleidimo taškams | H19: (LT>LV) Kiemėnų išleidimo taškui (LT>PL) Santakos išleidimo taškui | L19: (LT) Vidiniam(s) ir Šakių išleidimo taškams
D20: K | E20: M | F20: P | G20: EP | H20: K | I20: M | J20: P | K20: EP | L20: K | M20: M | N20: P/EP
B21: 2023 | D21: 1.1 | E21: 1.25 | F21: 1.5 | G21: 1.5 | H21: 1.1 | I21: 1.25 | J21: 1.5 | K21: 1.5 | L21: 1.25 | M21: 1.5 | N21: 3
B22: 2024 | D22: 1.1 | E22: 1.25 | F22: 1.5 | G22: 1.7 | H22: 1.1 | I22: 1.25 | J22: 1.5 | K22: 1.7 | L22: 1.25 | M22: 1.5 | N22: 3
B23: 2025 | D23: 1.1 | E23: 1.25 | F23: 1.5 | G23: 1.7 | H23: 1.1 | I23: 1.25 | J23: 1.5 | K23: 1.7 | L23: 1.25 | M23: 1.5 | N23: 3
B24: 2026 | D24: 1.1 | E24: 1.25 | F24: 1.5 | G24: 1.7 | H24: 1.1 | I24: 1.25 | J24: 1.5 | K24: 1.7 | L24: 1.25 | M24: 1.5 | N24: 3
B25: 2027 | D25: 1.1 | E25: 1.25 | F25: 1.5 | G25: 1.7 | H25: 1.1 | I25: 1.25 | J25: 1.5 | K25: 1.7 | L25: 1.25 | M25: 1.5 | N25: 3
B26: 2028 | D26: 1.1 | E26: 1.25 | F26: 1.5 | G26: 1.7 | H26: 1.1 | I26: 1.25 | J26: 1.5 | K26: 1.7 | L26: 1.25 | M26: 1.5 | N26: 3
B28: Sezoniniai koeficientai (SK):
B29: SK (LT) Vidiniam išleidimo taškui:
B30: Tarifiniai metai | D30: Ketvirčio produktams | H30: Mėnesio produktams | T30: Paros/einamosios paros produktams
D31: I K | E31: II K | F31: III K | G31: IV K | H31: Sau | I31: Vas | J31: Kov | K31: Bal | L31: Geg | M31: Bir | N31: Lie | O31: Rgp | P31: Rgs | Q31: Spl | R31: Lap | S31: Grd | T31: Sau | U31: Vas | V31: Kov | W31: Bal | X31: Geg | Y31: Bir | Z31: Lie | AA31: Rgp | AB31: Rgs | AC31: Spl | AD31: Lap | AE31: Grd
B32: 2023 | D32: 1.53 | E32: 0.64 | F32: 0.49 | G32: 1.34 | H32: 1.82 | I32: 1.37 | J32: 1.41 | K32: 0.81 | L32: 0.61 | M32: 0.49 | N32: 0.39 | O32: 0.46 | P32: 0.62 | Q32: 1.07 | R32: 1.35 | S32: 1.6 | T32: 1.82 | U32: 1.37 | V32: 1.41 | W32: 0.81 | X32: 0.61 | Y32: 0.49 | Z32: 0.39 | AA32: 0.46 | AB32: 0.62 | AC32: 1.07 | AD32: 1.35 | AE32: 1.6
B33: 2024 | D33: =+'SK skaičiavimas_Vieningi'!C56 -> 1.5 | E33: =+'SK skaičiavimas_Vieningi'!D56 -> 0.7 | F33: =+'SK skaičiavimas_Vieningi'!E56 -> 0.49 | G33: =+'SK skaičiavimas_Vieningi'!F56 -> 1.31 | H33: =+'SK skaičiavimas_Vieningi'!C53 -> 1.73 | I33: =+'SK skaičiavimas_Vieningi'!D53 -> 1.36 | J33: =+'SK skaičiavimas_Vieningi'!E53 -> 1.39 | K33: =+'SK skaičiavimas_Vieningi'!F53 -> 0.89 | L33: =+'SK skaičiavimas_Vieningi'!G53 -> 0.7 | M33: =+'SK skaičiavimas_Vieningi'!H53 -> 0.53 | N33: =+'SK skaičiavimas_Vieningi'!I53 -> 0.43 | O33: =+'SK skaičiavimas_Vieningi'!J53 -> 0.48 | ... S33: =+'SK skaičiavimas_Vieningi'!N53 -> 1.66 | T33: =+'SK skaičiavimas_Vieningi'!C54 -> 1.73 | U33: =+'SK skaičiavimas_Vieningi'!D54 -> 1.36 | V33: =+'SK skaičiavimas_Vieningi'!E54 -> 1.39 | W33: =+'SK skaičiavimas_Vieningi'!F54 -> 0.89 | X33: =+'SK skaičiavimas_Vieningi'!G54 -> 0.7 | Y33: =+'SK skaičiavimas_Vieningi'!H54 -> 0.53 | Z33: =+'SK skaičiavimas_Vieningi'!I54 -> 0.43 | AA33: =+'SK skaičiavimas_Vieningi'!J54 -> 0.48 | ... AE33: =+'SK skaičiavimas_Vieningi'!N54 -> 1.66
B34: 2025 | D34: =D33 -> 1.5 | E34: =E33 -> 0.7 | F34: =F33 -> 0.49 | G34: =G33 -> 1.31 | H34: =H33 -> 1.73 | I34: =I33 -> 1.36 | J34: =J33 -> 1.39 | K34: =K33 -> 0.89 | ... AE34: =AE33 -> 1.66
B35: 2026 | D35: =D34 -> 1.5 | E35: =E34 -> 0.7 | F35: =F34 -> 0.49 | G35: =G34 -> 1.31 | H35: =H34 -> 1.73 | I35: =I34 -> 1.36 | J35: =J34 -> 1.39 | K35: =K34 -> 0.89 | ... AE35: =AE34 -> 1.66
B36: 2027 | D36: =D35 -> 1.5 | E36: =E35 -> 0.7 | F36: =F35 -> 0.49 | G36: =G35 -> 1.31 | H36: =H35 -> 1.73 | I36: =I35 -> 1.36 | J36: =J35 -> 1.39 | K36: =K35 -> 0.89 | ... AE36: =AE35 -> 1.66
B37: 2028 | D37: =D36 -> 1.5 | E37: =E36 -> 0.7 | F37: =F36 -> 0.49 | G37: =G36 -> 1.31 | H37: =H36 -> 1.73 | I37: =I36 -> 1.36 | J37: =J36 -> 1.39 | K37: =K36 -> 0.89 | ... AE37: =AE36 -> 1.66
B39: SK (LT>RU) Šakių išleidimo taškui:
B40: Tarifiniai metai | D40: Ketvirčio produktams | H40: Mėnesio produktams | T40: Paros/einamosios paros produktams
D41: I K | E41: II K | F41: III K | G41: IV K | H41: Sau | I41: Vas | J41: Kov | K41: Bal | L41: Geg | M41: Bir | N41: Lie | O41: Rgp | P41: Rgs | Q41: Spl | R41: Lap | S41: Grd | T41: Sau | U41: Vas | V41: Kov | W41: Bal | X41: Geg | Y41: Bir | Z41: Lie | AA41: Rgp | AB41: Rgs | AC41: Spl | AD41: Lap | AE41: Grd
B42: 2023 | D42: 1.53 | E42: 0.64 | F42: 0.49 | G42: 1.34 | H42: 1.82 | I42: 1.37 | J42: 1.41 | K42: 0.81 | L42: 0.61 | M42: 0.49 | N42: 0.39 | O42: 0.46 | P42: 0.62 | Q42: 1.07 | R42: 1.35 | S42: 1.6 | T42: 1.82 | U42: 1.37 | V42: 1.41 | W42: 0.81 | X42: 0.61 | Y42: 0.49 | Z42: 0.39 | AA42: 0.46 | AB42: 0.62 | AC42: 1.07 | AD42: 1.35 | AE42: 1.6
B43: 2024 | D43: =+'SK skaičiavimas_Vieningi'!C56 -> 1.5 | E43: =+'SK skaičiavimas_Vieningi'!D56 -> 0.7 | F43: =+'SK skaičiavimas_Vieningi'!E56 -> 0.49 | G43: =+'SK skaičiavimas_Vieningi'!F56 -> 1.31 | H43: =+'SK skaičiavimas_Vieningi'!C53 -> 1.73 | I43: =+'SK skaičiavimas_Vieningi'!D53 -> 1.36 | J43: =+'SK skaičiavimas_Vieningi'!E53 -> 1.39 | K43: =+'SK skaičiavimas_Vieningi'!F53 -> 0.89 | L43: =+'SK skaičiavimas_Vieningi'!G53 -> 0.7 | M43: =+'SK skaičiavimas_Vieningi'!H53 -> 0.53 | N43: =+'SK skaičiavimas_Vieningi'!I53 -> 0.43 | O43: =+'SK skaičiavimas_Vieningi'!J53 -> 0.48 | ... S43: =+'SK skaičiavimas_Vieningi'!N53 -> 1.66 | T43: =+'SK skaičiavimas_Vieningi'!C54 -> 1.73 | U43: =+'SK skaičiavimas_Vieningi'!D54 -> 1.36 | V43: =+'SK skaičiavimas_Vieningi'!E54 -> 1.39 | W43: =+'SK skaičiavimas_Vieningi'!F54 -> 0.89 | X43: =+'SK skaičiavimas_Vieningi'!G54 -> 0.7 | Y43: =+'SK skaičiavimas_Vieningi'!H54 -> 0.53 | Z43: =+'SK skaičiavimas_Vieningi'!I54 -> 0.43 | AA43: =+'SK skaičiavimas_Vieningi'!J54 -> 0.48 | ... AE43: =+'SK skaičiavimas_Vieningi'!N54 -> 1.66
B44: 2025 | D44: =D43 -> 1.5 | E44: =E43 -> 0.7 | F44: =F43 -> 0.49 | G44: =G43 -> 1.31 | H44: =H43 -> 1.73 | I44: =I43 -> 1.36 | J44: =J43 -> 1.39 | K44: =K43 -> 0.89 | ... AE44: =AE43 -> 1.66
B45: 2026 | D45: =D44 -> 1.5 | E45: =E44 -> 0.7 | F45: =F44 -> 0.49 | G45: =G44 -> 1.31 | H45: =H44 -> 1.73 | I45: =I44 -> 1.36 | J45: =J44 -> 1.39 | K45: =K44 -> 0.89 | ... AE45: =AE44 -> 1.66
B46: 2027 | D46: =D45 -> 1.5 | E46: =E45 -> 0.7 | F46: =F45 -> 0.49 | G46: =G45 -> 1.31 | H46: =H45 -> 1.73 | I46: =I45 -> 1.36 | J46: =J45 -> 1.39 | K46: =K45 -> 0.89 | ... AE46: =AE45 -> 1.66
B47: 2028 | D47: =D46 -> 1.5 | E47: =E46 -> 0.7 | F47: =F46 -> 0.49 | G47: =G46 -> 1.31 | H47: =H46 -> 1.73 | I47: =I46 -> 1.36 | J47: =J46 -> 1.39 | K47: =K46 -> 0.89 | ... AE47: =AE46 -> 1.66
B49: Tarifiniai metai 2023
C50: Referen-cinės kainos | D50: Kainos už ketvirčio pajėgumus | H50: Kainos už mėnesio pajėgumus | T50: Kainos už paros pajėgumus | AF50: Kainos už einamosios paros pajėgumus
B51: ne metų trukmės pajėgumų kainos, kaip % dalis nuo referencinės kainos: | D51: I K | E51: II K | F51: III K | G51: IV K | H51: Sau | I51: Vas | J51: Kov | K51: Bal | L51: Geg | M51: Bir | N51: Lie | O51: Rgp | P51: Rgs | Q51: Spl | R51: Lap | S51: Grd | T51: Sau | U51: Vas | V51: Kov | W51: Bal | X51: Geg | Y51: Bir | Z51: Lie | AA51: Rgp | AB51: Rgs | AC51: Spl | AD51: Lap | AE51: Grd | AF51: Sau | AG51: Vas | AH51: Kov | AI51: Bal | AJ51: Geg | AK51: Bir | AL51: Lie | AM51: Rgp | AN51: Rgs | AO51: Spl | AP51: Lap | AQ51: Grd
B52: visiems įleidimo taškams | D52: =1/$C$11*D11*$D$21 -> 0.27123288 | E52: =1/$C$11*E11*$D$21 -> 0.27424658 | F52: =1/$C$11*F11*$D$21 -> 0.27726027 | G52: =1/$C$11*G11*$D$21 -> 0.27726027 | H52: =1/$C$11*H11*$E$21 -> 0.10616438 | I52: =1/$C$11*I11*$E$21 -> 0.095890411 | J52: =1/$C$11*J11*$E$21 -> 0.10616438 | K52: =1/$C$11*K11*$E$21 -> 0.10273973 | L52: =1/$C$11*L11*$E$21 -> 0.10616438 | M52: =1/$C$11*M11*$E$21 -> 0.10273973 | N52: =1/$C$11*N11*$E$21 -> 0.10616438 | O52: =1/$C$11*O11*$E$21 -> 0.10616438 | ... S52: =1/$C$11*S11*$E$21 -> 0.10616438 | T52: =1/$C$11*$F$21 -> 0.004109589 | U52: =1/$C$11*$F$21 -> 0.004109589 | V52: =1/$C$11*$F$21 -> 0.004109589 | W52: =1/$C$11*$F$21 -> 0.004109589 | X52: =1/$C$11*$F$21 -> 0.004109589 | Y52: =1/$C$11*$F$21 -> 0.004109589 | Z52: =1/$C$11*$F$21 -> 0.004109589 | AA52: =1/$C$11*$F$21 -> 0.004109589 | ... AE52: =1/$C$11*$F$21 -> 0.004109589 | AF52: =1/$C$11*$G$21 -> 0.004109589 | AG52: =1/$C$11*$G$21 -> 0.004109589 | AH52: =1/$C$11*$G$21 -> 0.004109589 | AI52: =1/$C$11*$G$21 -> 0.004109589 | AJ52: =1/$C$11*$G$21 -> 0.004109589 | AK52: =1/$C$11*$G$21 -> 0.004109589 | AL52: =1/$C$11*$G$21 -> 0.004109589 | AM52: =1/$C$11*$G$21 -> 0.004109589 | ... AQ52: =1/$C$11*$G$21 -> 0.004109589
B53: (LT>LV) Kiemėnų, (LT>PL) Santakos išleidimo taškui | D53: =1/$C$11*D11*$H$21 -> 0.27123288 | E53: =1/$C$11*E11*$H$21 -> 0.27424658 | F53: =1/$C$11*F11*$H$21 -> 0.27726027 | G53: =1/$C$11*G11*$H$21 -> 0.27726027 | H53: =1/$C$11*H11*$I$21 -> 0.10616438 | I53: =1/$C$11*I11*$I$21 -> 0.095890411 | J53: =1/$C$11*J11*$I$21 -> 0.10616438 | K53: =1/$C$11*K11*$I$21 -> 0.10273973 | L53: =1/$C$11*L11*$I$21 -> 0.10616438 | M53: =1/$C$11*M11*$I$21 -> 0.10273973 | N53: =1/$C$11*N11*$I$21 -> 0.10616438 | O53: =1/$C$11*O11*$I$21 -> 0.10616438 | ... S53: =1/$C$11*S11*$I$21 -> 0.10616438 | T53: =1/$C$11*$J$21 -> 0.004109589 | U53: =1/$C$11*$J$21 -> 0.004109589 | V53: =1/$C$11*$J$21 -> 0.004109589 | W53: =1/$C$11*$J$21 -> 0.004109589 | X53: =1/$C$11*$J$21 -> 0.004109589 | Y53: =1/$C$11*$J$21 -> 0.004109589 | Z53: =1/$C$11*$J$21 -> 0.004109589 | AA53: =1/$C$11*$J$21 -> 0.004109589 | ... AE53: =1/$C$11*$J$21 -> 0.004109589 | AF53: =1/$C$11*$K$21 -> 0.004109589 | AG53: =1/$C$11*$K$21 -> 0.004109589 | AH53: =1/$C$11*$K$21 -> 0.004109589 | AI53: =1/$C$11*$K$21 -> 0.004109589 | AJ53: =1/$C$11*$K$21 -> 0.004109589 | AK53: =1/$C$11*$K$21 -> 0.004109589 | AL53: =1/$C$11*$K$21 -> 0.004109589 | AM53: =1/$C$11*$K$21 -> 0.004109589 | ... AQ53: =1/$C$11*$K$21 -> 0.004109589
B54: (LT>RU) Šakių išleidimo taškui | D54: =1/$C$11*D11*$L$21*D42 -> 0.47157534 | E54: =1/$C$11*E11*$L$21*E42 -> 0.19945205 | F54: =1/$C$11*F11*$L$21*F42 -> 0.15438356 | G54: =1/$C$11*G11*$L$21*G42 -> 0.42219178 | H54: =1/$C$11*H11*$M$21*H42 -> 0.23186301 | I54: =1/$C$11*I11*$M$21*I42 -> 0.15764384 | J54: =1/$C$11*J11*$M$21*J42 -> 0.17963014 | K54: =1/$C$11*K11*$M$21*K42 -> 0.099863014 | L54: =1/$C$11*L11*$M$21*L42 -> 0.077712329 | M54: =1/$C$11*M11*$M$21*M42 -> 0.060410959 | N54: =1/$C$11*N11*$M$21*N42 -> 0.049684932 | O54: =1/$C$11*O11*$M$21*O42 -> 0.05860274 | ... S54: =1/$C$11*S11*$M$21*S42 -> 0.20383562 | T54: =1/$C$11*$N$21*T42 -> 0.014958904 | U54: =1/$C$11*$N$21*U42 -> 0.011260274 | V54: =1/$C$11*$N$21*V42 -> 0.011589041 | W54: =1/$C$11*$N$21*W42 -> 0.0066575342 | X54: =1/$C$11*$N$21*X42 -> 0.0050136986 | Y54: =1/$C$11*$N$21*Y42 -> 0.0040273973 | Z54: =1/$C$11*$N$21*Z42 -> 0.0032054795 | AA54: =1/$C$11*$N$21*AA42 -> 0.0037808219 | ... AE54: =1/$C$11*$N$21*AE42 -> 0.013150685 | AF54: =1/$C$11*$N$21*T42 -> 0.014958904 | AG54: =1/$C$11*$N$21*U42 -> 0.011260274 | AH54: =1/$C$11*$N$21*V42 -> 0.011589041 | AI54: =1/$C$11*$N$21*W42 -> 0.0066575342 | AJ54: =1/$C$11*$N$21*X42 -> 0.0050136986 | AK54: =1/$C$11*$N$21*Y42 -> 0.0040273973 | AL54: =1/$C$11*$N$21*Z42 -> 0.0032054795 | AM54: =1/$C$11*$N$21*AA42 -> 0.0037808219 | ... AQ54: =1/$C$11*$N$21*AE42 -> 0.013150685
B55: (LT) Vidiniams išleidimo taškams | D55: =1/$C$11*D11*$L$21*D32 -> 0.47157534 | E55: =1/$C$11*E11*$L$21*E32 -> 0.19945205 | F55: =1/$C$11*F11*$L$21*F32 -> 0.15438356 | G55: =1/$C$11*G11*$L$21*G32 -> 0.42219178 | H55: =1/$C$11*H11*$M$21*H32 -> 0.23186301 | I55: =1/$C$11*I11*$M$21*I32 -> 0.15764384 | J55: =1/$C$11*J11*$M$21*J32 -> 0.17963014 | K55: =1/$C$11*K11*$M$21*K32 -> 0.099863014 | L55: =1/$C$11*L11*$M$21*L32 -> 0.077712329 | M55: =1/$C$11*M11*$M$21*M32 -> 0.060410959 | N55: =1/$C$11*N11*$M$21*N32 -> 0.049684932 | O55: =1/$C$11*O11*$M$21*O32 -> 0.05860274 | ... S55: =1/$C$11*S11*$M$21*S32 -> 0.20383562 | T55: =1/$C$11*$N$21*T32 -> 0.014958904 | U55: =1/$C$11*$N$21*U32 -> 0.011260274 | V55: =1/$C$11*$N$21*V32 -> 0.011589041 | W55: =1/$C$11*$N$21*W32 -> 0.0066575342 | X55: =1/$C$11*$N$21*X32 -> 0.0050136986 | Y55: =1/$C$11*$N$21*Y32 -> 0.0040273973 | Z55: =1/$C$11*$N$21*Z32 -> 0.0032054795 | AA55: =1/$C$11*$N$21*AA32 -> 0.0037808219 | ... AE55: =1/$C$11*$N$21*AE32 -> 0.013150685 | AF55: =1/$C$11*$N$21*T32 -> 0.014958904 | AG55: =1/$C$11*$N$21*U32 -> 0.011260274 | AH55: =1/$C$11*$N$21*V32 -> 0.011589041 | AI55: =1/$C$11*$N$21*W32 -> 0.0066575342 | AJ55: =1/$C$11*$N$21*X32 -> 0.0050136986 | AK55: =1/$C$11*$N$21*Y32 -> 0.0040273973 | AL55: =1/$C$11*$N$21*Z32 -> 0.0032054795 | AM55: =1/$C$11*$N$21*AA32 -> 0.0037808219 | ... AQ55: =1/$C$11*$N$21*AE32 -> 0.013150685
B56: (BY>LT) Kotlovkos įleidimo taškas | C56: =ROUND(Kainos!E120,2) -> 142.77 | D56: =$C$56*D52 -> 38.723918 | E56: =$C$56*E52 -> 39.154184 | F56: =$C$56*F52 -> 39.584449 | G56: =$C$56*G52 -> 39.584449 | H56: =$C$56*H52 -> 15.157089 | I56: =$C$56*I52 -> 13.690274 | J56: =$C$56*J52 -> 15.157089 | K56: =$C$56*K52 -> 14.668151 | ... AQ56: =$C$56*AQ52 -> 0.58672603
B57: (BY>LT) Kotlovkos įleidimo taškas (apribotasis pajėgumų produktas) | C57: =ROUND(Kainos!E122,2) -> 35.96 | D57: =$C$57*D52 -> 9.7535342 | E57: =$C$57*E52 -> 9.8619068 | F57: =$C$57*F52 -> 9.9702795 | G57: =$C$57*G52 -> 9.9702795 | H57: =$C$57*H52 -> 3.8176712 | I57: =$C$57*I52 -> 3.4482192 | J57: =$C$57*J52 -> 3.8176712 | K57: =$C$57*K52 -> 3.6945205 | ... AQ57: =$C$57*AQ52 -> 0.14778082
B58: (LV>LT) Kiemėnų įleidimo taškas | C58: =ROUND(Kainos!E123,2) -> 142.77 | D58: =$C$58*D52 -> 38.723918 | E58: =$C$58*E52 -> 39.154184 | F58: =$C$58*F52 -> 39.584449 | G58: =$C$58*G52 -> 39.584449 | H58: =$C$58*H52 -> 15.157089 | I58: =$C$58*I52 -> 13.690274 | J58: =$C$58*J52 -> 15.157089 | K58: =$C$58*K52 -> 14.668151 | ... AQ58: =$C$58*AQ52 -> 0.58672603
B59: (SGDT>LT) Klaipėdos įleidimo taškas | C59: =ROUND(Kainos!E124,2) -> 142.77 | D59: =$C$59*D52 -> 38.723918 | E59: =$C$59*E52 -> 39.154184 | F59: =$C$59*F52 -> 39.584449 | G59: =$C$59*G52 -> 39.584449 | H59: =$C$59*H52 -> 15.157089 | I59: =$C$59*I52 -> 13.690274 | J59: =$C$59*J52 -> 15.157089 | K59: =$C$59*K52 -> 14.668151 | ... AQ59: =$C$59*AQ52 -> 0.58672603
B60: (PL>LT) Santakos įleidimo taškas | C60: =ROUND(Kainos!E125,2) -> 142.77 | D60: =$C$60*D52 -> 38.723918 | E60: =$C$60*E52 -> 39.154184 | F60: =$C$60*F52 -> 39.584449 | G60: =$C$60*G52 -> 39.584449 | H60: =$C$60*H52 -> 15.157089 | I60: =$C$60*I52 -> 13.690274 | J60: =$C$60*J52 -> 15.157089 | K60: =$C$60*K52 -> 14.668151 | ... AQ60: =$C$60*AQ52 -> 0.58672603
B61: (LT>LV) Kiemėnų išleidimo taškas | C61: =ROUND(Kainos!E126,2) -> 116.66 | D61: =+$C$61*D53 -> 31.642027 | E61: =+$C$61*E53 -> 31.993605 | F61: =+$C$61*F53 -> 32.345184 | G61: =+$C$61*G53 -> 32.345184 | H61: =+$C$61*H53 -> 12.385137 | I61: =+$C$61*I53 -> 11.186575 | J61: =+$C$61*J53 -> 12.385137 | K61: =+$C$61*K53 -> 11.985616 | ... AQ61: =+$C$61*AQ53 -> 0.47942466
B62: (LT>RU) Šakių išleidimo taškas | C62: =ROUND(Kainos!E127,2) -> 46.7 | D62: =+$C$62*D54 -> 22.022568 | E62: =+$C$62*E54 -> 9.314411 | F62: =+$C$62*F54 -> 7.2097123 | G62: =+$C$62*G54 -> 19.716356 | H62: =+$C$62*H54 -> 10.828003 | I62: =+$C$62*I54 -> 7.3619671 | J62: =+$C$62*J54 -> 8.3887274 | K62: =+$C$62*K54 -> 4.6636027 | ... AQ62: =+$C$62*AQ54 -> 0.61413699
B63: (LT>PL) Santakos išleidimo taškas | C63: =ROUND(Kainos!E128,2) -> 116.66 | D63: =+$C$63*D53 -> 31.642027 | E63: =+$C$63*E53 -> 31.993605 | F63: =+$C$63*F53 -> 32.345184 | G63: =+$C$63*G53 -> 32.345184 | H63: =+$C$63*H53 -> 12.385137 | I63: =+$C$63*I53 -> 11.186575 | J63: =+$C$63*J53 -> 12.385137 | K63: =+$C$63*K53 -> 11.985616 | ... AQ63: =+$C$63*AQ53 -> 0.47942466
B64: (LT) Vidinis išleidimo taškas | C64: =ROUND(Kainos!E132,2) -> 100.86 | D64: =+$C$64*D55 -> 47.563089 | E64: =+$C$64*E55 -> 20.116734 | F64: =+$C$64*F55 -> 15.571126 | G64: =+$C$64*G55 -> 42.582263 | H64: =+$C$64*H55 -> 23.385704 | I64: =+$C$64*I55 -> 15.899957 | J64: =+$C$64*J55 -> 18.117496 | K64: =+$C$64*K55 -> 10.072184 | ... AQ64: =+$C$64*AQ55 -> 1.3263781
B65: (LT) Vidinis išleidimo taškas - Achema | C65: =ROUND(Kainos!E133,2) -> 46.37 | D65: =+$C$65*D55 -> 21.866949 | E65: =+$C$65*E55 -> 9.2485918 | F65: =+$C$65*F55 -> 7.1587658 | G65: =+$C$65*G55 -> 19.577033 | H65: =+$C$65*H55 -> 10.751488 | I65: =+$C$65*I55 -> 7.3099447 | J65: =+$C$65*J55 -> 8.3294495 | K65: =+$C$65*K55 -> 4.6306479 | ... AQ65: =+$C$65*AQ55 -> 0.60979726
B66: Tarifiniai metai 2024
C67: Referen-cinės kainos | D67: Kainos už ketvirčio pajėgumus | H67: Kainos už mėnesio pajėgumus | T67: Kainos už paros pajėgumus | AF67: Kainos už einamosios paros pajėgumus
B68: ne metų trukmės pajėgumų kainos, kaip % dalis nuo referencinės kainos: | D68: I K | E68: II K | F68: III K | G68: IV K | H68: Sau | I68: Vas | J68: Kov | K68: Bal | L68: Geg | M68: Bir | N68: Lie | O68: Rgp | P68: Rgs | Q68: Spl | R68: Lap | S68: Grd | T68: Sau | U68: Vas | V68: Kov | W68: Bal | X68: Geg | Y68: Bir | Z68: Lie | AA68: Rgp | AB68: Rgs | AC68: Spl | AD68: Lap | AE68: Grd | AF68: Sau | AG68: Vas | AH68: Kov | AI68: Bal | AJ68: Geg | AK68: Bir | AL68: Lie | AM68: Rgp | AN68: Rgs | AO68: Spl | AP68: Lap | AQ68: Grd
B69: visiems įleidimo taškams | D69: =1/$C$12*D12*$D$22 -> 0.27349727 | E69: =1/$C$12*E12*$D$22 -> 0.27349727 | F69: =1/$C$12*F12*$D$22 -> 0.27650273 | G69: =1/$C$12*G12*$D$22 -> 0.27650273 | H69: =1/$C$12*H12*$E$22 -> 0.10587432 | I69: =1/$C$12*I12*$E$22 -> 0.099043716 | J69: =1/$C$12*J12*$E$22 -> 0.10587432 | K69: =1/$C$12*K12*$E$22 -> 0.10245902 | L69: =1/$C$12*L12*$E$22 -> 0.10587432 | M69: =1/$C$12*M12*$E$22 -> 0.10245902 | N69: =1/$C$12*N12*$E$22 -> 0.10587432 | O69: =1/$C$12*O12*$E$22 -> 0.10587432 | ... S69: =1/$C$12*S12*$E$22 -> 0.10587432 | T69: =1/$C$12*$F$22 -> 0.0040983607 | U69: =1/$C$12*$F$22 -> 0.0040983607 | V69: =1/$C$12*$F$22 -> 0.0040983607 | W69: =1/$C$12*$F$22 -> 0.0040983607 | X69: =1/$C$12*$F$22 -> 0.0040983607 | Y69: =1/$C$12*$F$22 -> 0.0040983607 | Z69: =1/$C$12*$F$22 -> 0.0040983607 | AA69: =1/$C$12*$F$22 -> 0.0040983607 | ... AE69: =1/$C$12*$F$22 -> 0.0040983607 | AF69: =1/$C$12*$G$22 -> 0.0046448087 | AG69: =1/$C$12*$G$22 -> 0.0046448087 | AH69: =1/$C$12*$G$22 -> 0.0046448087 | AI69: =1/$C$12*$G$22 -> 0.0046448087 | AJ69: =1/$C$12*$G$22 -> 0.0046448087 | AK69: =1/$C$12*$G$22 -> 0.0046448087 | AL69: =1/$C$12*$G$22 -> 0.0046448087 | AM69: =1/$C$12*$G$22 -> 0.0046448087 | ... AQ69: =1/$C$12*$G$22 -> 0.0046448087
B70: (LT>LV) Kiemėnų, (LT>PL) Santakos išleidimo taškui | D70: =1/$C$12*D12*$H$22 -> 0.27349727 | E70: =1/$C$12*E12*$H$22 -> 0.27349727 | F70: =1/$C$12*F12*$H$22 -> 0.27650273 | G70: =1/$C$12*G12*$H$22 -> 0.27650273 | H70: =1/$C$12*H12*$I$22 -> 0.10587432 | I70: =1/$C$12*I12*$I$22 -> 0.099043716 | J70: =1/$C$12*J12*$I$22 -> 0.10587432 | K70: =1/$C$12*K12*$I$22 -> 0.10245902 | L70: =1/$C$12*L12*$I$22 -> 0.10587432 | M70: =1/$C$12*M12*$I$22 -> 0.10245902 | N70: =1/$C$12*N12*$I$22 -> 0.10587432 | O70: =1/$C$12*O12*$I$22 -> 0.10587432 | ... S70: =1/$C$12*S12*$I$22 -> 0.10587432 | T70: =1/$C$12*$J$22 -> 0.0040983607 | U70: =1/$C$12*$J$22 -> 0.0040983607 | V70: =1/$C$12*$J$22 -> 0.0040983607 | W70: =1/$C$12*$J$22 -> 0.0040983607 | X70: =1/$C$12*$J$22 -> 0.0040983607 | Y70: =1/$C$12*$J$22 -> 0.0040983607 | Z70: =1/$C$12*$J$22 -> 0.0040983607 | AA70: =1/$C$12*$J$22 -> 0.0040983607 | ... AE70: =1/$C$12*$J$22 -> 0.0040983607 | AF70: =1/$C$12*$K$22 -> 0.0046448087 | AG70: =1/$C$12*$K$22 -> 0.0046448087 | AH70: =1/$C$12*$K$22 -> 0.0046448087 | AI70: =1/$C$12*$K$22 -> 0.0046448087 | AJ70: =1/$C$12*$K$22 -> 0.0046448087 | AK70: =1/$C$12*$K$22 -> 0.0046448087 | AL70: =1/$C$12*$K$22 -> 0.0046448087 | AM70: =1/$C$12*$K$22 -> 0.0046448087 | ... AQ70: =1/$C$12*$K$22 -> 0.0046448087
B71: (LT>RU) Šakių išleidimo taškui | D71: =1/$C$12*D12*$L$22*D43 -> 0.46618852 | E71: =1/$C$12*E12*$L$22*E43 -> 0.21755464 | F71: =1/$C$12*F12*$L$22*F43 -> 0.15396175 | G71: =1/$C$12*G12*$L$22*G43 -> 0.41161202 | H71: =1/$C$12*H12*$M$22*H43 -> 0.21979508 | I71: =1/$C$12*I12*$M$22*I43 -> 0.16163934 | J71: =1/$C$12*J12*$M$22*J43 -> 0.17659836 | K71: =1/$C$12*K12*$M$22*K43 -> 0.10942623 | L71: =1/$C$12*L12*$M$22*L43 -> 0.088934426 | M71: =1/$C$12*M12*$M$22*M43 -> 0.065163934 | N71: =1/$C$12*N12*$M$22*N43 -> 0.054631148 | O71: =1/$C$12*O12*$M$22*O43 -> 0.060983607 | ... S71: =1/$C$12*S12*$M$22*S43 -> 0.21090164 | T71: =1/$C$12*$N$22*T43 -> 0.014180328 | U71: =1/$C$12*$N$22*U43 -> 0.011147541 | V71: =1/$C$12*$N$22*V43 -> 0.011393443 | W71: =1/$C$12*$N$22*W43 -> 0.007295082 | X71: =1/$C$12*$N$22*X43 -> 0.0057377049 | Y71: =1/$C$12*$N$22*Y43 -> 0.0043442623 | Z71: =1/$C$12*$N$22*Z43 -> 0.0035245902 | AA71: =1/$C$12*$N$22*AA43 -> 0.0039344262 | ... AE71: =1/$C$12*$N$22*AE43 -> 0.013606557 | AF71: =1/$C$12*$N$22*T43 -> 0.014180328 | AG71: =1/$C$12*$N$22*U43 -> 0.011147541 | AH71: =1/$C$12*$N$22*V43 -> 0.011393443 | AI71: =1/$C$12*$N$22*W43 -> 0.007295082 | AJ71: =1/$C$12*$N$22*X43 -> 0.0057377049 | AK71: =1/$C$12*$N$22*Y43 -> 0.0043442623 | AL71: =1/$C$12*$N$22*Z43 -> 0.0035245902 | AM71: =1/$C$12*$N$22*AA43 -> 0.0039344262 | ... AQ71: =1/$C$12*$N$22*AE43 -> 0.013606557
B72: (LT) Vidiniams išleidimo taškams | D72: =1/$C$12*D12*$L$22*D33 -> 0.46618852 | E72: =1/$C$12*E12*$L$22*E33 -> 0.21755464 | F72: =1/$C$12*F12*$L$22*F33 -> 0.15396175 | G72: =1/$C$12*G12*$L$22*G33 -> 0.41161202 | H72: =1/$C$12*H12*$M$22*H33 -> 0.21979508 | I72: =1/$C$12*I12*$M$22*I33 -> 0.16163934 | J72: =1/$C$12*J12*$M$22*J33 -> 0.17659836 | K72: =1/$C$12*K12*$M$22*K33 -> 0.10942623 | L72: =1/$C$12*L12*$M$22*L33 -> 0.088934426 | M72: =1/$C$12*M12*$M$22*M33 -> 0.065163934 | N72: =1/$C$12*N12*$M$22*N33 -> 0.054631148 | O72: =1/$C$12*O12*$M$22*O33 -> 0.060983607 | ... S72: =1/$C$12*S12*$M$22*S33 -> 0.21090164 | T72: =1/$C$12*$N$22*T33 -> 0.014180328 | U72: =1/$C$12*$N$22*U33 -> 0.011147541 | V72: =1/$C$12*$N$22*V33 -> 0.011393443 | W72: =1/$C$12*$N$22*W33 -> 0.007295082 | X72: =1/$C$12*$N$22*X33 -> 0.0057377049 | Y72: =1/$C$12*$N$22*Y33 -> 0.0043442623 | Z72: =1/$C$12*$N$22*Z33 -> 0.0035245902 | AA72: =1/$C$12*$N$22*AA33 -> 0.0039344262 | ... AE72: =1/$C$12*$N$22*AE33 -> 0.013606557 | AF72: =1/$C$12*$N$22*T33 -> 0.014180328 | AG72: =1/$C$12*$N$22*U33 -> 0.011147541 | AH72: =1/$C$12*$N$22*V33 -> 0.011393443 | AI72: =1/$C$12*$N$22*W33 -> 0.007295082 | AJ72: =1/$C$12*$N$22*X33 -> 0.0057377049 | AK72: =1/$C$12*$N$22*Y33 -> 0.0043442623 | AL72: =1/$C$12*$N$22*Z33 -> 0.0035245902 | AM72: =1/$C$12*$N$22*AA33 -> 0.0039344262 | ... AQ72: =1/$C$12*$N$22*AE33 -> 0.013606557
B73: (BY>LT) Kotlovkos įleidimo taškas | C73: =ROUND(Kainos!F120,2) -> 142.77 | D73: =$C$73*D69 -> 39.047205 | E73: =$C$73*E69 -> 39.047205 | F73: =$C$73*F69 -> 39.476295 | G73: =$C$73*G69 -> 39.476295 | H73: =$C$73*H69 -> 15.115676 | I73: =$C$73*I69 -> 14.140471 | J73: =$C$73*J69 -> 15.115676 | K73: =$C$73*K69 -> 14.628074 | ... AQ73: =$C$73*AQ69 -> 0.66313934
B74: (BY>LT) Kotlovkos įleidimo taškas (apribotasis pajėgumų produktas) | C74: =ROUND(Kainos!F122,2) -> 35.96 | D74: =$C$74*D69 -> 9.8349617 | E74: =$C$74*E69 -> 9.8349617 | F74: =$C$74*F69 -> 9.9430383 | G74: =$C$74*G69 -> 9.9430383 | H74: =$C$74*H69 -> 3.8072404 | I74: =$C$74*I69 -> 3.561612 | J74: =$C$74*J69 -> 3.8072404 | K74: =$C$74*K69 -> 3.6844262 | ... AQ74: =$C$74*AQ69 -> 0.16702732
B75: (LV>LT) Kiemėnų įleidimo taškas | C75: =ROUND(Kainos!F123,2) -> 142.77 | D75: =$C$75*D69 -> 39.047205 | E75: =$C$75*E69 -> 39.047205 | F75: =$C$75*F69 -> 39.476295 | G75: =$C$75*G69 -> 39.476295 | H75: =$C$75*H69 -> 15.115676 | I75: =$C$75*I69 -> 14.140471 | J75: =$C$75*J69 -> 15.115676 | K75: =$C$75*K69 -> 14.628074 | ... AQ75: =$C$75*AQ69 -> 0.66313934
B76: (SGDT>LT) Klaipėdos įleidimo taškas | C76: =ROUND(Kainos!F124,2) -> 142.77 | D76: =$C$76*D69 -> 39.047205 | E76: =$C$76*E69 -> 39.047205 | F76: =$C$76*F69 -> 39.476295 | G76: =$C$76*G69 -> 39.476295 | H76: =$C$76*H69 -> 15.115676 | I76: =$C$76*I69 -> 14.140471 | J76: =$C$76*J69 -> 15.115676 | K76: =$C$76*K69 -> 14.628074 | ... AQ76: =$C$76*AQ69 -> 0.66313934
B77: (PL>LT) Santakos įleidimo taškas | C77: =ROUND(Kainos!F125,2) -> 142.77 | D77: =$C$77*D69 -> 39.047205 | E77: =$C$77*E69 -> 39.047205 | F77: =$C$77*F69 -> 39.476295 | G77: =$C$77*G69 -> 39.476295 | H77: =$C$77*H69 -> 15.115676 | I77: =$C$77*I69 -> 14.140471 | J77: =$C$77*J69 -> 15.115676 | K77: =$C$77*K69 -> 14.628074 | ... AQ77: =$C$77*AQ69 -> 0.66313934
B78: (LT>LV) Kiemėnų išleidimo taškas | C78: =ROUND(Kainos!F126,2) -> 109.27 | D78: =+$C$78*D70 -> 29.885046 | E78: =+$C$78*E70 -> 29.885046 | F78: =+$C$78*F70 -> 30.213454 | G78: =+$C$78*G70 -> 30.213454 | H78: =+$C$78*H70 -> 11.568887 | I78: =+$C$78*I70 -> 10.822507 | J78: =+$C$78*J70 -> 11.568887 | K78: =+$C$78*K70 -> 11.195697 | ... AQ78: =+$C$78*AQ70 -> 0.50753825
B79: (LT>RU) Šakių išleidimo taškas | C79: =ROUND(Kainos!F127,2) -> 40.55 | D79: =+$C$79*D71 -> 18.903945 | E79: =+$C$79*E71 -> 8.8218408 | F79: =+$C$79*F71 -> 6.2431489 | G79: =+$C$79*G71 -> 16.690867 | H79: =+$C$79*H71 -> 8.9126906 | I79: =+$C$79*I71 -> 6.5544754 | J79: =+$C$79*J71 -> 7.1610635 | K79: =+$C$79*K71 -> 4.4372336 | ... AQ79: =+$C$79*AQ71 -> 0.5517459
B80: (LT>PL) Santakos išleidimo taškas | C80: =ROUND(Kainos!F128,2) -> 109.27 | D80: =+$C$80*D70 -> 29.885046 | E80: =+$C$80*E70 -> 29.885046 | F80: =+$C$80*F70 -> 30.213454 | G80: =+$C$80*G70 -> 30.213454 | H80: =+$C$80*H70 -> 11.568887 | I80: =+$C$80*I70 -> 10.822507 | J80: =+$C$80*J70 -> 11.568887 | K80: =+$C$80*K70 -> 11.195697 | ... AQ80: =+$C$80*AQ70 -> 0.50753825
B81: (LT) Vidinis išleidimo taškas | C81: =ROUND(Kainos!F132,2) -> 107.93 | D81: =+$C$81*D72 -> 50.315727 | E81: =+$C$81*E72 -> 23.480673 | F81: =+$C$81*F72 -> 16.617092 | G81: =+$C$81*G72 -> 44.425286 | H81: =+$C$81*H72 -> 23.722483 | I81: =+$C$81*I72 -> 17.445734 | J81: =+$C$81*J72 -> 19.060261 | K81: =+$C$81*K72 -> 11.810373 | ... AQ81: =+$C$81*AQ72 -> 1.4685557
B82: (LT) Vidinis išleidimo taškas - Achema | C82: =ROUND(Kainos!F133,2) -> 70.28 | D82: =+$C$82*D72 -> 32.76373 | E82: =+$C$82*E72 -> 15.28974 | F82: =+$C$82*F72 -> 10.820432 | G82: =+$C$82*G72 -> 28.928093 | H82: =+$C$82*H72 -> 15.447198 | I82: =+$C$82*I72 -> 11.360013 | J82: =+$C$82*J72 -> 12.411333 | K82: =+$C$82*K72 -> 7.6904754 | ... AQ82: =+$C$82*AQ72 -> 0.95626885
B83: Tarifiniai metai 2025
C84: Referen-cinės kainos | D84: Kainos už ketvirčio pajėgumus | H84: Kainos už mėnesio pajėgumus | T84: Kainos už paros pajėgumus | AF84: Kainos už einamosios paros pajėgumus
B85: ne metų trukmės pajėgumų kainos, kaip % dalis nuo referencinės kainos: | D85: I K | E85: II K | F85: III K | G85: IV K | H85: Sau | I85: Vas | J85: Kov | K85: Bal | L85: Geg | M85: Bir | N85: Lie | O85: Rgp | P85: Rgs | Q85: Spl | R85: Lap | S85: Grd | T85: Sau | U85: Vas | V85: Kov | W85: Bal | X85: Geg | Y85: Bir | Z85: Lie | AA85: Rgp | AB85: Rgs | AC85: Spl | AD85: Lap | AE85: Grd | AF85: Sau | AG85: Vas | AH85: Kov | AI85: Bal | AJ85: Geg | AK85: Bir | AL85: Lie | AM85: Rgp | AN85: Rgs | AO85: Spl | AP85: Lap | AQ85: Grd
B86: visiems įleidimo taškams | D86: =1/$C$13*D13*$D$23 -> 0.27123288 | E86: =1/$C$13*E13*$D$23 -> 0.27424658 | F86: =1/$C$13*F13*$D$23 -> 0.27726027 | G86: =1/$C$13*G13*$D$23 -> 0.27726027 | H86: =1/$C$13*H13*$E$23 -> 0.10616438 | I86: =1/$C$13*I13*$E$23 -> 0.095890411 | J86: =1/$C$13*J13*$E$23 -> 0.10616438 | K86: =1/$C$13*K13*$E$23 -> 0.10273973 | L86: =1/$C$13*L13*$E$23 -> 0.10616438 | M86: =1/$C$13*M13*$E$23 -> 0.10273973 | N86: =1/$C$13*N13*$E$23 -> 0.10616438 | O86: =1/$C$13*O13*$E$23 -> 0.10616438 | ... S86: =1/$C$13*S13*$E$23 -> 0.10616438 | T86: =1/$C$13*$F$23 -> 0.004109589 | U86: =1/$C$13*$F$23 -> 0.004109589 | V86: =1/$C$13*$F$23 -> 0.004109589 | W86: =1/$C$13*$F$23 -> 0.004109589 | X86: =1/$C$13*$F$23 -> 0.004109589 | Y86: =1/$C$13*$F$23 -> 0.004109589 | Z86: =1/$C$13*$F$23 -> 0.004109589 | AA86: =1/$C$13*$F$23 -> 0.004109589 | ... AE86: =1/$C$13*$F$23 -> 0.004109589 | AF86: =1/$C$13*$G$23 -> 0.0046575342 | AG86: =1/$C$13*$G$23 -> 0.0046575342 | AH86: =1/$C$13*$G$23 -> 0.0046575342 | AI86: =1/$C$13*$G$23 -> 0.0046575342 | AJ86: =1/$C$13*$G$23 -> 0.0046575342 | AK86: =1/$C$13*$G$23 -> 0.0046575342 | AL86: =1/$C$13*$G$23 -> 0.0046575342 | AM86: =1/$C$13*$G$23 -> 0.0046575342 | ... AQ86: =1/$C$13*$G$23 -> 0.0046575342
B87: (LT>LV) Kiemėnų, (LT>PL) Santakos išleidimo taškui | D87: =1/$C$13*D13*$H$23 -> 0.27123288 | E87: =1/$C$13*E13*$H$23 -> 0.27424658 | F87: =1/$C$13*F13*$H$23 -> 0.27726027 | G87: =1/$C$13*G13*$H$23 -> 0.27726027 | H87: =1/$C$13*H13*$I$23 -> 0.10616438 | I87: =1/$C$13*I13*$I$23 -> 0.095890411 | J87: =1/$C$13*J13*$I$23 -> 0.10616438 | K87: =1/$C$13*K13*$I$23 -> 0.10273973 | L87: =1/$C$13*L13*$I$23 -> 0.10616438 | M87: =1/$C$13*M13*$I$23 -> 0.10273973 | N87: =1/$C$13*N13*$I$23 -> 0.10616438 | O87: =1/$C$13*O13*$I$23 -> 0.10616438 | ... S87: =1/$C$13*S13*$I$23 -> 0.10616438 | T87: =1/$C$13*$J$23 -> 0.004109589 | U87: =1/$C$13*$J$23 -> 0.004109589 | V87: =1/$C$13*$J$23 -> 0.004109589 | W87: =1/$C$13*$J$23 -> 0.004109589 | X87: =1/$C$13*$J$23 -> 0.004109589 | Y87: =1/$C$13*$J$23 -> 0.004109589 | Z87: =1/$C$13*$J$23 -> 0.004109589 | AA87: =1/$C$13*$J$23 -> 0.004109589 | ... AE87: =1/$C$13*$J$23 -> 0.004109589 | AF87: =1/$C$13*$K$23 -> 0.0046575342 | AG87: =1/$C$13*$K$23 -> 0.0046575342 | AH87: =1/$C$13*$K$23 -> 0.0046575342 | AI87: =1/$C$13*$K$23 -> 0.0046575342 | AJ87: =1/$C$13*$K$23 -> 0.0046575342 | AK87: =1/$C$13*$K$23 -> 0.0046575342 | AL87: =1/$C$13*$K$23 -> 0.0046575342 | AM87: =1/$C$13*$K$23 -> 0.0046575342 | ... AQ87: =1/$C$13*$K$23 -> 0.0046575342
B88: (LT>RU) Šakių išleidimo taškui | D88: =1/$C$13*D13*$L$23*D44 -> 0.46232877 | E88: =1/$C$13*E13*$L$23*E44 -> 0.21815068 | F88: =1/$C$13*F13*$L$23*F44 -> 0.15438356 | G88: =1/$C$13*G13*$L$23*G44 -> 0.41273973 | H88: =1/$C$13*H13*$M$23*H44 -> 0.22039726 | I88: =1/$C$13*I13*$M$23*I44 -> 0.15649315 | J88: =1/$C$13*J13*$M$23*J44 -> 0.17708219 | K88: =1/$C$13*K13*$M$23*K44 -> 0.10972603 | L88: =1/$C$13*L13*$M$23*L44 -> 0.089178082 | M88: =1/$C$13*M13*$M$23*M44 -> 0.065342466 | N88: =1/$C$13*N13*$M$23*N44 -> 0.054780822 | O88: =1/$C$13*O13*$M$23*O44 -> 0.061150685 | ... S88: =1/$C$13*S13*$M$23*S44 -> 0.21147945 | T88: =1/$C$13*$N$23*T44 -> 0.014219178 | U88: =1/$C$13*$N$23*U44 -> 0.011178082 | V88: =1/$C$13*$N$23*V44 -> 0.011424658 | W88: =1/$C$13*$N$23*W44 -> 0.0073150685 | X88: =1/$C$13*$N$23*X44 -> 0.0057534247 | Y88: =1/$C$13*$N$23*Y44 -> 0.0043561644 | Z88: =1/$C$13*$N$23*Z44 -> 0.0035342466 | AA88: =1/$C$13*$N$23*AA44 -> 0.0039452055 | ... AE88: =1/$C$13*$N$23*AE44 -> 0.013643836 | AF88: =1/$C$13*$N$23*T44 -> 0.014219178 | AG88: =1/$C$13*$N$23*U44 -> 0.011178082 | AH88: =1/$C$13*$N$23*V44 -> 0.011424658 | AI88: =1/$C$13*$N$23*W44 -> 0.0073150685 | AJ88: =1/$C$13*$N$23*X44 -> 0.0057534247 | AK88: =1/$C$13*$N$23*Y44 -> 0.0043561644 | AL88: =1/$C$13*$N$23*Z44 -> 0.0035342466 | AM88: =1/$C$13*$N$23*AA44 -> 0.0039452055 | ... AQ88: =1/$C$13*$N$23*AE44 -> 0.013643836
B89: (LT) Vidiniams išleidimo taškams | D89: =1/$C$13*D13*$L$23*D34 -> 0.46232877 | E89: =1/$C$13*E13*$L$23*E34 -> 0.21815068 | F89: =1/$C$13*F13*$L$23*F34 -> 0.15438356 | G89: =1/$C$13*G13*$L$23*G34 -> 0.41273973 | H89: =1/$C$13*H13*$M$23*H34 -> 0.22039726 | I89: =1/$C$13*I13*$M$23*I34 -> 0.15649315 | J89: =1/$C$13*J13*$M$23*J34 -> 0.17708219 | K89: =1/$C$13*K13*$M$23*K34 -> 0.10972603 | L89: =1/$C$13*L13*$M$23*L34 -> 0.089178082 | M89: =1/$C$13*M13*$M$23*M34 -> 0.065342466 | N89: =1/$C$13*N13*$M$23*N34 -> 0.054780822 | O89: =1/$C$13*O13*$M$23*O34 -> 0.061150685 | ... S89: =1/$C$13*S13*$M$23*S34 -> 0.21147945 | T89: =1/$C$13*$N$23*T34 -> 0.014219178 | U89: =1/$C$13*$N$23*U34 -> 0.011178082 | V89: =1/$C$13*$N$23*V34 -> 0.011424658 | W89: =1/$C$13*$N$23*W34 -> 0.0073150685 | X89: =1/$C$13*$N$23*X34 -> 0.0057534247 | Y89: =1/$C$13*$N$23*Y34 -> 0.0043561644 | Z89: =1/$C$13*$N$23*Z34 -> 0.0035342466 | AA89: =1/$C$13*$N$23*AA34 -> 0.0039452055 | ... AE89: =1/$C$13*$N$23*AE34 -> 0.013643836 | AF89: =1/$C$13*$N$23*T34 -> 0.014219178 | AG89: =1/$C$13*$N$23*U34 -> 0.011178082 | AH89: =1/$C$13*$N$23*V34 -> 0.011424658 | AI89: =1/$C$13*$N$23*W34 -> 0.0073150685 | AJ89: =1/$C$13*$N$23*X34 -> 0.0057534247 | AK89: =1/$C$13*$N$23*Y34 -> 0.0043561644 | AL89: =1/$C$13*$N$23*Z34 -> 0.0035342466 | AM89: =1/$C$13*$N$23*AA34 -> 0.0039452055 | ... AQ89: =1/$C$13*$N$23*AE34 -> 0.013643836
B90: (BY>LT) Kotlovkos įleidimo taškas | C90: =ROUND(Kainos!G120,2) -> 142.77 | D90: =$C$90*D86 -> 38.723918 | E90: =$C$90*E86 -> 39.154184 | F90: =$C$90*F86 -> 39.584449 | G90: =$C$90*G86 -> 39.584449 | H90: =$C$90*H86 -> 15.157089 | I90: =$C$90*I86 -> 13.690274 | J90: =$C$90*J86 -> 15.157089 | K90: =$C$90*K86 -> 14.668151 | ... AQ90: =$C$90*AQ86 -> 0.66495616
B91: LT Vidaus įleidimo taškas | C91: =ROUND(Kainos!G121,2) -> 142.77 | D91: =$C91*D86 -> 38.723918 | E91: =$C91*E87 -> 39.154184 | F91: =$C91*F87 -> 39.584449 | G91: =$C91*G87 -> 39.584449 | H91: =$C91*H87 -> 15.157089 | I91: =$C91*I87 -> 13.690274 | J91: =$C91*J87 -> 15.157089 | K91: =$C91*K87 -> 14.668151 | L91: =$C91*L87 -> 15.157089 | ... AQ91: =$C91*AQ87 -> 0.66495616
B92: (BY>LT) Kotlovkos įleidimo taškas (apribotasis pajėgumų produktas) | C92: =ROUND(Kainos!G122,2) -> 35.96 | D92: =$C$92*D86 -> 9.7535342 | E92: =$C$92*E86 -> 9.8619068 | F92: =$C$92*F86 -> 9.9702795 | G92: =$C$92*G86 -> 9.9702795 | H92: =$C$92*H86 -> 3.8176712 | I92: =$C$92*I86 -> 3.4482192 | J92: =$C$92*J86 -> 3.8176712 | K92: =$C$92*K86 -> 3.6945205 | ... AQ92: =$C$92*AQ86 -> 0.16748493
B93: (LV>LT) Kiemėnų įleidimo taškas | C93: =ROUND(Kainos!G123,2) -> 142.77 | D93: =$C$93*D86 -> 38.723918 | E93: =$C$93*E86 -> 39.154184 | F93: =$C$93*F86 -> 39.584449 | G93: =$C$93*G86 -> 39.584449 | H93: =$C$93*H86 -> 15.157089 | I93: =$C$93*I86 -> 13.690274 | J93: =$C$93*J86 -> 15.157089 | K93: =$C$93*K86 -> 14.668151 | ... AQ93: =$C$93*AQ86 -> 0.66495616
B94: (SGDT>LT) Klaipėdos įleidimo taškas | C94: =ROUND(Kainos!G124,2) -> 142.77 | D94: =$C$94*D86 -> 38.723918 | E94: =$C$94*E86 -> 39.154184 | F94: =$C$94*F86 -> 39.584449 | G94: =$C$94*G86 -> 39.584449 | H94: =$C$94*H86 -> 15.157089 | I94: =$C$94*I86 -> 13.690274 | J94: =$C$94*J86 -> 15.157089 | K94: =$C$94*K86 -> 14.668151 | ... AQ94: =$C$94*AQ86 -> 0.66495616
B95: (PL>LT) Santakos įleidimo taškas | C95: =ROUND(Kainos!G125,2) -> 142.77 | D95: =$C$95*D86 -> 38.723918 | E95: =$C$95*E86 -> 39.154184 | F95: =$C$95*F86 -> 39.584449 | G95: =$C$95*G86 -> 39.584449 | H95: =$C$95*H86 -> 15.157089 | I95: =$C$95*I86 -> 13.690274 | J95: =$C$95*J86 -> 15.157089 | K95: =$C$95*K86 -> 14.668151 | ... AQ95: =$C$95*AQ86 -> 0.66495616
B96: (LT>LV) Kiemėnų išleidimo taškas | C96: =Kainos!G126 -> 84.295248 | D96: =+$C$96*D87 -> 22.863643 | E96: =+$C$96*E87 -> 23.117683 | F96: =+$C$96*F87 -> 23.371724 | G96: =+$C$96*G87 -> 23.371724 | H96: =+$C$96*H87 -> 8.949153 | I96: =+$C$96*I87 -> 8.083106 | J96: =+$C$96*J87 -> 8.949153 | K96: =+$C$96*K87 -> 8.6604707 | ... AQ96: =+$C$96*AQ87 -> 0.392608
B97: (LT>RU) Šakių išleidimo taškas | C97: =Kainos!G127 -> 61.866821 | D97: =+$C$97*D88 -> 28.602811 | E97: =+$C$97*E88 -> 13.496289 | F97: =+$C$97*F88 -> 9.5512202 | G97: =+$C$97*G88 -> 25.534895 | H97: =+$C$97*H88 -> 13.635278 | I97: =+$C$97*I88 -> 9.6817338 | J97: =+$C$97*J88 -> 10.955512 | K97: =+$C$97*K88 -> 6.7884005 | ... AQ97: =+$C$97*AQ88 -> 0.84410074
B98: (LT>PL) Santakos išleidimo taškas | C98: =Kainos!G128 -> 84.295248 | D98: =+$C$98*D87 -> 22.863643 | E98: =+$C$98*E87 -> 23.117683 | F98: =+$C$98*F87 -> 23.371724 | G98: =+$C$98*G87 -> 23.371724 | H98: =+$C$98*H87 -> 8.949153 | I98: =+$C$98*I87 -> 8.083106 | J98: =+$C$98*J87 -> 8.949153 | K98: =+$C$98*K87 -> 8.6604707 | ... AQ98: =+$C$98*AQ87 -> 0.392608
B99: (LT) Vidinis išleidimo taškas | C99: =Kainos!G132 -> 120.74749 | D99: =+$C$99*D89 -> 55.82504 | E99: =+$C$99*E89 -> 26.341148 | F99: =+$C$99*F89 -> 18.641428 | G99: =+$C$99*G89 -> 49.837287 | H99: =+$C$99*H89 -> 26.612417 | I99: =+$C$99*I89 -> 18.896156 | J99: =+$C$99*J89 -> 21.382231 | K99: =+$C$99*K89 -> 13.249143 | ... AQ99: =+$C$99*AQ89 -> 1.647459
B100: (LT) Vidinis išleidimo taškas - Achema | C100: =Kainos!G133 -> 69.520695 | D100: =+$C$100*D89 -> 32.141417 | E100: =+$C$100*E89 -> 15.165987 | F100: =+$C$100*F89 -> 10.732853 | G100: =+$C$100*G89 -> 28.693953 | H100: =+$C$100*H89 -> 15.322171 | I100: =+$C$100*I89 -> 10.879513 | J100: =+$C$100*J89 -> 12.310877 | K100: =+$C$100*K89 -> 7.6282297 | ... AQ100: =+$C$100*AQ89 -> 0.94852894
B101: Tarifiniai metai 2026
C102: Referen-cinės kainos | D102: Kainos už ketvirčio pajėgumus | H102: Kainos už mėnesio pajėgumus | T102: Kainos už paros pajėgumus | AF102: Kainos už einamosios paros pajėgumus
B103: ne metų trukmės pajėgumų kainos, kaip % dalis nuo referencinės kainos: | D103: I K | E103: II K | F103: III K | G103: IV K | H103: Sau | I103: Vas | J103: Kov | K103: Bal | L103: Geg | M103: Bir | N103: Lie | O103: Rgp | P103: Rgs | Q103: Spl | R103: Lap | S103: Grd | T103: Sau | U103: Vas | V103: Kov | W103: Bal | X103: Geg | Y103: Bir | Z103: Lie | AA103: Rgp | AB103: Rgs | AC103: Spl | AD103: Lap | AE103: Grd | AF103: Sau | AG103: Vas | AH103: Kov | AI103: Bal | AJ103: Geg | AK103: Bir | AL103: Lie | AM103: Rgp | AN103: Rgs | AO103: Spl | AP103: Lap | AQ103: Grd
B104: visiems įleidimo taškams | D104: =1/$C$14*D14*$D$24 -> 0.27123288 | E104: =1/$C$14*E14*$D$24 -> 0.27424658 | F104: =1/$C$14*F14*$D$24 -> 0.27726027 | G104: =1/$C$14*G14*$D$24 -> 0.27726027 | H104: =1/$C$14*H14*$E$24 -> 0.10616438 | I104: =1/$C$14*I14*$E$24 -> 0.095890411 | J104: =1/$C$14*J14*$E$24 -> 0.10616438 | K104: =1/$C$14*K14*$E$24 -> 0.10273973 | L104: =1/$C$14*L14*$E$24 -> 0.10616438 | M104: =1/$C$14*M14*$E$24 -> 0.10273973 | N104: =1/$C$14*N14*$E$24 -> 0.10616438 | O104: =1/$C$14*O14*$E$24 -> 0.10616438 | ... S104: =1/$C$14*S14*$E$24 -> 0.10616438 | T104: =1/$C$14*$F$24 -> 0.004109589 | U104: =1/$C$14*$F$24 -> 0.004109589 | V104: =1/$C$14*$F$24 -> 0.004109589 | W104: =1/$C$14*$F$24 -> 0.004109589 | X104: =1/$C$14*$F$24 -> 0.004109589 | Y104: =1/$C$14*$F$24 -> 0.004109589 | Z104: =1/$C$14*$F$24 -> 0.004109589 | AA104: =1/$C$14*$F$24 -> 0.004109589 | ... AE104: =1/$C$14*$F$24 -> 0.004109589 | AF104: =1/$C$14*$G$24 -> 0.0046575342 | AG104: =1/$C$14*$G$24 -> 0.0046575342 | AH104: =1/$C$14*$G$24 -> 0.0046575342 | AI104: =1/$C$14*$G$24 -> 0.0046575342 | AJ104: =1/$C$14*$G$24 -> 0.0046575342 | AK104: =1/$C$14*$G$24 -> 0.0046575342 | AL104: =1/$C$14*$G$24 -> 0.0046575342 | AM104: =1/$C$14*$G$24 -> 0.0046575342 | ... AQ104: =1/$C$14*$G$24 -> 0.0046575342
B105: (LT>LV) Kiemėnų, (LT>PL) Santakos išleidimo taškui | D105: =1/$C$14*D14*$H$24 -> 0.27123288 | E105: =1/$C$14*E14*$H$24 -> 0.27424658 | F105: =1/$C$14*F14*$H$24 -> 0.27726027 | G105: =1/$C$14*G14*$H$24 -> 0.27726027 | H105: =1/$C$14*H14*$I$24 -> 0.10616438 | I105: =1/$C$14*I14*$I$24 -> 0.095890411 | J105: =1/$C$14*J14*$I$24 -> 0.10616438 | K105: =1/$C$14*K14*$I$24 -> 0.10273973 | L105: =1/$C$14*L14*$I$24 -> 0.10616438 | M105: =1/$C$14*M14*$I$24 -> 0.10273973 | N105: =1/$C$14*N14*$I$24 -> 0.10616438 | O105: =1/$C$14*O14*$I$24 -> 0.10616438 | ... S105: =1/$C$14*S14*$I$24 -> 0.10616438 | T105: =1/$C$14*$J$24 -> 0.004109589 | U105: =1/$C$14*$J$24 -> 0.004109589 | V105: =1/$C$14*$J$24 -> 0.004109589 | W105: =1/$C$14*$J$24 -> 0.004109589 | X105: =1/$C$14*$J$24 -> 0.004109589 | Y105: =1/$C$14*$J$24 -> 0.004109589 | Z105: =1/$C$14*$J$24 -> 0.004109589 | AA105: =1/$C$14*$J$24 -> 0.004109589 | ... AE105: =1/$C$14*$J$24 -> 0.004109589 | AF105: =1/$C$14*$K$24 -> 0.0046575342 | AG105: =1/$C$14*$K$24 -> 0.0046575342 | AH105: =1/$C$14*$K$24 -> 0.0046575342 | AI105: =1/$C$14*$K$24 -> 0.0046575342 | AJ105: =1/$C$14*$K$24 -> 0.0046575342 | AK105: =1/$C$14*$K$24 -> 0.0046575342 | AL105: =1/$C$14*$K$24 -> 0.0046575342 | AM105: =1/$C$14*$K$24 -> 0.0046575342 | ... AQ105: =1/$C$14*$K$24 -> 0.0046575342
B106: (LT>RU) Šakių išleidimo taškui | D106: =1/$C$14*D14*$L$24*D45 -> 0.46232877 | E106: =1/$C$14*E14*$L$24*E45 -> 0.21815068 | F106: =1/$C$14*F14*$L$24*F45 -> 0.15438356 | G106: =1/$C$14*G14*$L$24*G45 -> 0.41273973 | H106: =1/$C$14*H14*$M$24*H45 -> 0.22039726 | I106: =1/$C$14*I14*$M$24*I45 -> 0.15649315 | J106: =1/$C$14*J14*$M$24*J45 -> 0.17708219 | K106: =1/$C$14*K14*$M$24*K45 -> 0.10972603 | L106: =1/$C$14*L14*$M$24*L45 -> 0.089178082 | M106: =1/$C$14*M14*$M$24*M45 -> 0.065342466 | N106: =1/$C$14*N14*$M$24*N45 -> 0.054780822 | O106: =1/$C$14*O14*$M$24*O45 -> 0.061150685 | ... S106: =1/$C$14*S14*$M$24*S45 -> 0.21147945 | T106: =1/$C$14*$N$24*T45 -> 0.014219178 | U106: =1/$C$14*$N$24*U45 -> 0.011178082 | V106: =1/$C$14*$N$24*V45 -> 0.011424658 | W106: =1/$C$14*$N$24*W45 -> 0.0073150685 | X106: =1/$C$14*$N$24*X45 -> 0.0057534247 | Y106: =1/$C$14*$N$24*Y45 -> 0.0043561644 | Z106: =1/$C$14*$N$24*Z45 -> 0.0035342466 | AA106: =1/$C$14*$N$24*AA45 -> 0.0039452055 | ... AE106: =1/$C$14*$N$24*AE45 -> 0.013643836 | AF106: =1/$C$14*$N$24*T45 -> 0.014219178 | AG106: =1/$C$14*$N$24*U45 -> 0.011178082 | AH106: =1/$C$14*$N$24*V45 -> 0.011424658 | AI106: =1/$C$14*$N$24*W45 -> 0.0073150685 | AJ106: =1/$C$14*$N$24*X45 -> 0.0057534247 | AK106: =1/$C$14*$N$24*Y45 -> 0.0043561644 | AL106: =1/$C$14*$N$24*Z45 -> 0.0035342466 | AM106: =1/$C$14*$N$24*AA45 -> 0.0039452055 | ... AQ106: =1/$C$14*$N$24*AE45 -> 0.013643836
B107: (LT) Vidiniams išleidimo taškams | D107: =1/$C$14*D14*$L$24*D35 -> 0.46232877 | E107: =1/$C$14*E14*$L$24*E35 -> 0.21815068 | F107: =1/$C$14*F14*$L$24*F35 -> 0.15438356 | G107: =1/$C$14*G14*$L$24*G35 -> 0.41273973 | H107: =1/$C$14*H14*$M$24*H35 -> 0.22039726 | I107: =1/$C$14*I14*$M$24*I35 -> 0.15649315 | J107: =1/$C$14*J14*$M$24*J35 -> 0.17708219 | K107: =1/$C$14*K14*$M$24*K35 -> 0.10972603 | L107: =1/$C$14*L14*$M$24*L35 -> 0.089178082 | M107: =1/$C$14*M14*$M$24*M35 -> 0.065342466 | N107: =1/$C$14*N14*$M$24*N35 -> 0.054780822 | O107: =1/$C$14*O14*$M$24*O35 -> 0.061150685 | ... S107: =1/$C$14*S14*$M$24*S35 -> 0.21147945 | T107: =1/$C$14*$N$24*T35 -> 0.014219178 | U107: =1/$C$14*$N$24*U35 -> 0.011178082 | V107: =1/$C$14*$N$24*V35 -> 0.011424658 | W107: =1/$C$14*$N$24*W35 -> 0.0073150685 | X107: =1/$C$14*$N$24*X35 -> 0.0057534247 | Y107: =1/$C$14*$N$24*Y35 -> 0.0043561644 | Z107: =1/$C$14*$N$24*Z35 -> 0.0035342466 | AA107: =1/$C$14*$N$24*AA35 -> 0.0039452055 | ... AE107: =1/$C$14*$N$24*AE35 -> 0.013643836 | AF107: =1/$C$14*$N$24*T35 -> 0.014219178 | AG107: =1/$C$14*$N$24*U35 -> 0.011178082 | AH107: =1/$C$14*$N$24*V35 -> 0.011424658 | AI107: =1/$C$14*$N$24*W35 -> 0.0073150685 | AJ107: =1/$C$14*$N$24*X35 -> 0.0057534247 | AK107: =1/$C$14*$N$24*Y35 -> 0.0043561644 | AL107: =1/$C$14*$N$24*Z35 -> 0.0035342466 | AM107: =1/$C$14*$N$24*AA35 -> 0.0039452055 | ... AQ107: =1/$C$14*$N$24*AE35 -> 0.013643836
...

Sheet SK skaičiavimas_Vieningi
B1: Sezoninių koeficientų (SK) skaičiavimas 2023 m. (LT) Vidiniame išleidimo taške (-uose) ir (LT>RU) Šakių išleidimo taške likusiam Reguliavimo periodui (2024-2028)
B2: Kaip reikalaujama pagal TAR NC 15 straipsnį
B3: Liepa, 2024
B4: Turi būti pildomi tik mėlyni laukeliai
B6: 1 žingsnis: Straipsnis 15(3)(a), (b): "a) perdavimo sistemos naudojimas kiekvieną gamtinių dujų tiekimo metų mėnesį turi būti apskaičiuojamas pagal prognozuojamus srautus arba prognozuojamą užsakytą pajėgumą<...>", "b) a punkte nurodytos gautos vertės turi būti sudedamos;"
C7: Prognozuojami srautai kiekvieną dujų mėnesį
C8: Sau | D8: Vas | E8: Kov | F8: Bal | G8: Geg | H8: Bir | I8: Lie | J8: Rgp | K8: Rgs | L8: Spl | M8: Lap | N8: Grd | O8: Iš viso
B9: Vidutiis (2019-2015) dujų srautas Vidiniame išleidimo taške (-uose) ir Šakių išleidimo taške m., MWh: | C9: 5647857.2 | D9: 5007489.6 | E9: 5059768.5 | F9: 4041409.5 | G9: 3583226.8 | H9: 3121479.9 | I9: 2828904.3 | J9: 2965615.7 | K9: 3207845 | L9: 4244201.6 | M9: 4861286.9 | N9: 5533297.6 | O9: =SUM(C9:N9) -> 50102383
B11: 2 žingsnis: Straipsnis 15(3)(c): "c) naudojimo rodiklis turi būti apskaičiuojamas kiekvieną a punkte nurodytą vertę padalijant iš b punkte nurodytos gautos vertės;"
C12: Dujų mėnesiai
C13: Sau | D13: Vas | E13: Kov | F13: Bal | G13: Geg | H13: Bir | I13: Lie | J13: Rgp | K13: Rgs | L13: Spl | M13: Lap | N13: Grd | O13: Iš viso
B14: Naudojimo rodiklis: | C14: =C9/$O$9 -> 0.11272632 | D14: =D9/$O$9 -> 0.09994514 | E14: =E9/$O$9 -> 0.10098858 | F14: =F9/$O$9 -> 0.080663021 | G14: =G9/$O$9 -> 0.071518092 | H14: =H9/$O$9 -> 0.062302026 | I14: =I9/$O$9 -> 0.05646247 | J14: =J9/$O$9 -> 0.059191111 | ... N14: =N9/$O$9 -> 0.11043981 | O14: =SUM(C14:N14) -> 1
B16: 3 žingsnis: Straipsnis 15(3)(d): "d) kiekviena c punkte nurodyta gauta vertė turi būti padauginama iš 12. Jei gautos vertės yra lygios 0, tos vertės turi būti koreguojamos iki mažesniosios iš šių verčių: 0,1 arba kitos nei 0 mažiausios gautos vertės;"
C17: Dujų mėnesiai
C18: Sau | D18: Vas | E18: Kov | F18: Bal | G18: Geg | H18: Bir | I18: Lie | J18: Rgp | K18: Rgs | L18: Spl | M18: Lap | N18: Grd
B19: Naudojimo rodiklis x 12: | C19: =IF(C14>0,C14*12,MIN(0.1,SMALL($C$14:$N$14,COUNTIF($C$14:$N$14,0)+1))*12) -> 1.3527158 | D19: =IF(D14>0,D14*12,MIN(0.1,SMALL($C$14:$N$14,COUNTIF($C$14:$N$14,0)+1))*12) -> 1.1993417 | E19: =IF(E14>0,E14*12,MIN(0.1,SMALL($C$14:$N$14,COUNTIF($C$14:$N$14,0)+1))*12) -> 1.211863 | F19: =IF(F14>0,F14*12,MIN(0.1,SMALL($C$14:$N$14,COUNTIF($C$14:$N$14,0)+1))*12) -> 0.96795625 | G19: =IF(G14>0,G14*12,MIN(0.1,SMALL($C$14:$N$14,COUNTIF($C$14:$N$14,0)+1))*12) -> 0.8582171 | H19: =IF(H14>0,H14*12,MIN(0.1,SMALL($C$14:$N$14,COUNTIF($C$14:$N$14,0)+1))*12) -> 0.74762431 | I19: =IF(I14>0,I14*12,MIN(0.1,SMALL($C$14:$N$14,COUNTIF($C$14:$N$14,0)+1))*12) -> 0.67754964 | J19: =IF(J14>0,J14*12,MIN(0.1,SMALL($C$14:$N$14,COUNTIF($C$14:$N$14,0)+1))*12) -> 0.71029333 | ... N19: =IF(N14>0,N14*12,MIN(0.1,SMALL($C$14:$N$14,COUNTIF($C$14:$N$14,0)+1))*12) -> 1.3252777
B21: 4 žingsnis: Straipsnis 15(3)(e): "e) pradinis atitinkamų sezoninių koeficientų dydis turi būti apskaičiuojamas kiekvieną d punkte nurodytą vertę pakeliant tuo pačiu laipsniu, kuris ne mažesnis už 0 ir ne didesnis už 2;"
C22: Dujų mėnesiai
C23: Sau | D23: Vas | E23: Kov | F23: Bal | G23: Geg | H23: Bir | I23: Lie | J23: Rgp | K23: Rgs | L23: Spl | M23: Lap | N23: Grd
B24: Naudojimo rodiklis x 12 ^ laipsniu (pradinis SK): | C24: =C19^$C$25 -> 1.8298401 | D24: =D19^$C$25 -> 1.4384205 | E24: =E19^$C$25 -> 1.4686118 | F24: =F19^$C$25 -> 0.9369393 | G24: =G19^$C$25 -> 0.73653659 | H24: =H19^$C$25 -> 0.55894211 | I24: =I19^$C$25 -> 0.45907351 | J24: =J19^$C$25 -> 0.50451661 | ... N24: =N19^$C$25 -> 1.7563611
B25: Laipsnis (0-2) | C25: 2
B27: 5 žingsnis: Straipsnis 15(3)(f): "f) turi būti apskaičiuojamas e punkte nurodytų gautų verčių ir mėnesio tipinių pajėgumo produktų daugiklio sandaugų aritmetinis vidurkis;" Straipsnis 15(4): "Paros tipinių nuolatinio pajėgumo produktų ir einamosios paros tipinių nuolatinio pajėgumo produktų sezoniniai koeficientai turi būti apskaičiuojami 3 dalies f–h punktuose nustatyta seka, mutatis mutandis."
C28: Dujų mėnesiai
C29: Sau | D29: Vas | E29: Kov | F29: Bal | G29: Geg | H29: Bir | I29: Lie | J29: Rgp | K29: Rgs | L29: Spl | M29: Lap | N29: Grd | O29: Vidurkis
B30: Pradinis SK x Mėnesio daugiklis: | C30: =C24*$C$33 -> 2.7447602 | D30: =D24*$C$33 -> 2.1576307 | E30: =E24*$C$33 -> 2.2029177 | F30: =F24*$C$33 -> 1.405409 | G30: =G24*$C$33 -> 1.1048049 | H30: =H24*$C$33 -> 0.83841317 | I30: =I24*$C$33 -> 0.68861027 | J30: =J24*$C$33 -> 0.75677492 | ... N30: =N24*$C$33 -> 2.6345416 | O30: =AVERAGE(C30:N30) -> 1.583565
B31: Pradinis SK x Paros/einamosios paros daugiklis: | C31: =C24*$C$34 -> 5.4895203 | D31: =D24*$C$34 -> 4.3152614 | E31: =E24*$C$34 -> 4.4058355 | F31: =F24*$C$34 -> 2.8108179 | G31: =G24*$C$34 -> 2.2096098 | H31: =H24*$C$34 -> 1.6768263 | I31: =I24*$C$34 -> 1.3772205 | J31: =J24*$C$34 -> 1.5135498 | ... N31: =N24*$C$34 -> 5.2690832 | O31: =AVERAGE(C31:N31) -> 3.16713
B33: Mėnesio daugiklis | C33: ='DG_SK, Trumpal. kainos'!M22 -> 1.5
B34: Paros/einamosios paros daugiklis | C34: ='DG_SK, Trumpal. kainos'!N22 -> 3
B36: 6 žingsnis: Straipsnis 15(3)(g): "g) f punkte nurodyta gauta vertė turi būti palyginama su 13 straipsnio 1 dalyje nurodytu intervalu taip: (i) jei ši vertė patenka į intervalą, sezoninių koeficientų dydis turi būti lygus atitinkamoms e punkte nurodytoms gautoms vertėms; (ii) jei ši vertė į intervalą nepatenka, taikomas h punktas;" Straipsnis 13(1): "13<..>1. Daugiklių dydžio intervalai šie: (a) ketvirčio tipinių pajėgumo produktų ir mėnesio tipinių pajėgumo produktų atitinkamas daugiklis turi būti ne mažesnis kaip 1 ir ne didesnis kaip 1,5; (b) paros tipinių pajėgumo produktų ir einamosios paros tipinių pajėgumo produktų atitinkamas daugiklis turi būti ne mažesnis kaip 1 ir ne didesnis kaip 3. Tinkamai pagrįstais atvejais nurodyti daugikliai gali būti mažesni kaip 1, bet didesni kaip 0, arba didesni kaip 3. Straipsnis 15(3)(h): "h) sezoninių koeficientų dydis turi būti apskaičiuojamas kaip atitinkamų e punkte nurodytų gautų verčių ir pataisos koeficiento sandauga, laikantis šių sąlygų: i) jei f punkte nurodyta gauta vertė yra didesnė kaip 1,5, pataisos koeficientas turi būti apskaičiuojamas 1,5 padalijant iš šios vertės; ii) jei f punkte nurodyta gauta vertė yra mažesnė kaip 1, pataisos koeficientas turi būti apskaičiuojamas 1 padalijant iš šios vertės."
C37: Dujų mėnesiai
C38: Sau | D38: Vas | E38: Kov | F38: Bal | G38: Geg | H38: Bir | I38: Lie | J38: Rgp | K38: Rgs | L38: Spl | M38: Lap | N38: Grd
B39: Mėnesio SK (pradinis SK x pataisos koeficientas): | C39: =C24*$C$42 -> 1.7332791 | D39: =D24*$C$42 -> 1.3625147 | E39: =E24*$C$42 -> 1.3911129 | F39: =F24*$C$42 -> 0.88749684 | G39: =G24*$C$42 -> 0.69766942 | H39: =H24*$C$42 -> 0.52944663 | I39: =I24*$C$42 -> 0.43484812 | J39: =J24*$C$42 -> 0.47789318 | ... N39: =N24*$C$42 -> 1.6636776
B40: Paros/einam. paros SK (pradinis SF x pataisos koef.): | C40: =C24*$C$43 -> 1.7332791 | D40: =D24*$C$43 -> 1.3625147 | E40: =E24*$C$43 -> 1.3911129 | F40: =F24*$C$43 -> 0.88749684 | G40: =G24*$C$43 -> 0.69766942 | H40: =H24*$C$43 -> 0.52944663 | I40: =I24*$C$43 -> 0.43484812 | J40: =J24*$C$43 -> 0.47789318 | ... N40: =N24*$C$43 -> 1.6636776
B42: Pataisos koeficientas: Mėnesio | C42: =IF(O30>1.5,1.5/O30,IF(O30<1,1/O30,1)) -> 0.94722981
B43: Pataisos koeficientas: Paros/einamosios paros | C43: =IF(O31>3,3/O31,IF(O31<1,1/O31,1)) -> 0.94722981
B45: 7 žingsnis: Straipsnis 15(5): "Ketvirčio tipinių nuolatinio pajėgumo produktų sezoniniai koeficientai turi būti apskaičiuojami šia seka: (a) pradinis atitinkamų sezoninių koeficientų dydis turi būti apskaičiuojamas pagal vieną iš šių sąlygų: (i) koeficientas yra lygus atitinkamų sezoninių koeficientų, taikomų tris susijusius mėnesius, paprastam aritmetiniam vidurkiui; (ii) koeficientas yra ne mažesnis už mažiausiąjį ir ne didesnis už didžiausiąjį iš atitinkamų sezoninių koeficientų, taikomų tris susijusius mėnesius; (b) 3 dalies f–h punktuose nustatyti žingsniai turi būti atlikti naudojant a punkte nurodytas gautas vertes, mutatis mutandis.“
C46: Dujų ketvirčiai
C47: I K | D47: II K | E47: III K | F47: IV K
B48: Ketvirčio SK: | C48: =AVERAGE(C39:E39) -> 1.4956356 | D48: =AVERAGE(F39:H39) -> 0.70487096 | E48: =AVERAGE(I39:K39) -> 0.49063022 | F48: =AVERAGE(L39:N39) -> 1.3088632
B50: 8 žingsnis: Straipsnis 15(6): "Ne metų tipinių nuolatinio pajėgumo produktų atveju 3–5 dalyse nurodytu skaičiavimu gautos vertės gali būti apvalinamos (didinamos arba mažinamos)."
C51: Dujų mėnesiai
C52: Sau | D52: Vas | E52: Kov | F52: Bal | G52: Geg | H52: Bir | I52: Lie | J52: Rgp | K52: Rgs | L52: Spl | M52: Lap | N52: Grd | O52: Vidurkis
B53: Mėnesio SK (galutiniai - taikytini kainoms): | C53: =ROUND(C39,2) -> 1.73 | D53: =ROUND(D39,2) -> 1.36 | E53: =ROUND(E39,2) -> 1.39 | F53: =ROUND(F39,2) -> 0.89 | G53: =ROUND(G39,2) -> 0.7 | H53: =ROUND(H39,2) -> 0.53 | I53: =ROUND(I39,2) -> 0.43 | J53: =ROUND(J39,2) -> 0.48 | ... N53: =ROUND(N39,2) -> 1.66 | O53: =AVERAGE(C53:N53) -> 0.99916667
B54: Paros/einam. paros SK (galutiniai - taikytini kainoms): | C54: =ROUND(C40,2) -> 1.73 | D54: =ROUND(D40,2) -> 1.36 | E54: =ROUND(E40,2) -> 1.39 | F54: =ROUND(F40,2) -> 0.89 | G54: =ROUND(G40,2) -> 0.7 | H54: =ROUND(H40,2) -> 0.53 | I54: =ROUND(I40,2) -> 0.43 | J54: =ROUND(J40,2) -> 0.48 | ... N54: =ROUND(N40,2) -> 1.66 | O54: =AVERAGE(C54:N54) -> 0.99916667
C55: I K | D55: II K | E55: III K | F55: IV K | G55: Vidurkis
B56: Ketvirčio SK (galutiniai - taikytini kainoms): | C56: =ROUND(C48,2) -> 1.5 | D56: =ROUND(D48,2) -> 0.7 | E56: =ROUND(E48,2) -> 0.49 | F56: =ROUND(F48,2) -> 1.31 | G56: =AVERAGE(C56:F56) -> 1
