Workbook

Sheet Kainos
B1: KAINŲ SKAIČIAVIMO MODELIS
B2: Perdavimo paslaugų kainų ir referencinių kainų (be PVM) 2023-2028 tarifiniams metams skaičiavimas (naudojantis AB „Amber Grid“ gamtinių dujų perdavimo sistemos infrastruktūra)
B4: Referencinės kainos (už nuolatinius metų pajėgumų produktus), dujų kiekiu grindžiamos kainos (kainos už kiekį) ir kainos už vartojimo pajėgumus
B5: Liepa, 2024 | G5: Pildoma | H5: Nepildoma
B6: Turi būti pildomi tik mėlyni laukeliai (pilki/žali laukeliai: skaičiavimai arba faktiniai įvesties ar išvesties duomenys; oranžiniai laukeliai: duomenys iš kito darbalaukio)
B9: PAAIŠKINIMAI: Šio kainų skaičiavimo modelio 3 darbalaukiai yra skirti šiems tikslams: - šis darbalaukis: referencinių kainų (už nuolatinius metų pajėgumų produktus), kainų už kiekį, kainų už vartojimo pajėgumus (pagrindiniai įvesties parametrai turi būti įvedami šiame darbalaukyje); - darbalaukis DG_SK, Trumpal. kainos: trumpalaikių nuolatinių pajėgumų produktų kainų iki 2028 m. skaičiavimui, įskaitant daugiklių ir sezoninių koeficientų įvesties duomenis; - paskutinis darbalaukis: bendrų sezoninių koeficientų taikomų Vidiniuose ir Šakių išleidimo taškuose 2024 m. - 2028m. skaičiavimui. | E9: ! Nepriklausomai nuo įvesties duomenų, įleidimo/išleidimo proporcijos, kaip įvesties parametro, įleidimo (%) dalis 2023-2024 m. (šio darbalaukio laukeliai E75:F76) turi būti pakoreguoti taip, kad referencinė kaina Kotlovkos įleidimo taške (laisvai skirstomiems pajėgumams) (šio darbalaukio laukelis F120:H120) būtų lygi 142,77 Eur (kaip taikoma FINESTLAT kainų zonoje)
E10: Tarifų metai 2023 | F10: Tarifų metai 2024 | G10: Tarifų metai 2025 | H10: Tarifų metai 2026 | I10: Tarifų metai 2027 | J10: Tarifų metai 2028
B11: Leidžiamosios pajamos (LP) (kaip įveretinta 2019/2020/2021 m. kainų skaičiavime): | C11: TEUR | E11: =E12+E13+E14 -> 64167 | F11: =F12+F13+F14 -> 67011 | G11: =G12+G13+G14 -> 63828.11 | H11: =H12+H13+H14 -> 69784.026 | I11: =I12+I13+I14 -> 72905.968 | J11: =J12+J13+J14 -> 78410.194
B12: iš jų LP, nevertinant Reguliavimo sąskaitos ir CBCA | C12: TEUR | E12: =E25 -> 61283.96 | F12: =F25 -> 69017.33 | G12: =G25 -> 68449.17 | H12: =H25 -> 69784.026 | I12: =I25 -> 72905.968 | J12: =J25 -> 78410.194
B13: iš jų - Reguliavimo sąskaita | C13: TEUR | E13: -10866.96 | F13: -7506.33 | G13: -4621.06
B14: iš jų - CBCA | C14: TEUR | E14: 13750 | F14: 5500
B16: SGDT nuolaidos perskirstymas už praėjusius laikotarpius ES išleidimo taškams (priskiriam. Pagrindiniam tinklui) | C16: TEUR | E16: 0 | F16: 0 | G16: 0 | H16: 0 | I16: 0 | J16: 0
B17: iš jų (LT>LV) Kiemėnų | C17: TEUR | E17: =E20*E98/(E98+E99) -> 906.76246 | F17: =F20*F98/(F98+F99) -> 187.81965
B18: iš jų (LT>LV) Santakos išleidimo taškui | C18: TEUR | E18: =E20*E99/(E99+E98) -> 922.30002 | F18: =F20*F99/(F99+F98) -> 310.68048
B19: iš jų (LT) vidiniams išleidimo taškams | C19: TEUR | E19: =+-E20 -> -1829.0625 | F19: =-F20 -> -498.50013
B20: SGDT nuolaidos perskirstymas už 2020-2022 m. ES išleidimo taškams (priskiriam. Pagrindiniam tinklui) | E20: =+E21+E22+E23 -> 1829.0625 | F20: =+F23-E23 -> 498.50013
B21: SGDT galutinis nuolaidos perskirstymas už 2020 m. ES išleidimo taškams (priskiriam. Pagrindiniam tinklui) 2023 m. | C21: TEUR | E21: 294.1413
B22: SGDT galutinis nuolaidos perskirstymas už 2021 m. ES išleidimo taškams (priskiriam. Pagrindiniam tinklui) 2023 m. | C22: TEUR | E22: =+((142.77-35.69)*35643.2023712329/1000*(7832.87/(7832.87+115105.03)-7370.07698630137/(7370.07698630137+88612.6160263562))) -> -49.889429
B23: SGDT tarpinis nuolaidos perskirstymas už 2022 m. ES išleidimo taškams (priskiriam. Pagrindiniam tinklui) 2023 m. SGDT galutinis nuolaidos perskirstymas už 2022 m. ES išleidimo taškams (priskiriam. Pagrindiniam tinklui) 2024 m. | C23: TEUR | E23: =+(142.77-142.77*0.25)*60763.4036185144/1000*((10413676/6277847.07333333*24956.9732357301+6792200/523431*2738.13332328323)/(10413676/6277847.07333333*24956.9732357301+20571368/23252511.026*105902.092917539+6792200/523431*2738.13332328323)-(24956.9732357301+2738.13332328323)/(24956.9732357301+105902.092917539+2738.13332328323)) -> 1584.8106 | F23: =+(142.77-142.77*0.25)*60763.4036185144/1000*((73840.2230207305+28556.9604167919)/(73840.2230207305+91721.6377630208+28556.9604167919)-(24956.9732357301+2738.13332328323)/(24956.9732357301+105902.092917539+2738.13332328323)) -> 2083.3107
B25: LP priskyrimas paslaugoms iki Reguliavimo sąskaitos įvertinimo: | C25: TEUR | E25: =E26+E28 -> 61283.96 | F25: =F26+F28 -> 69017.33 | G25: =G26+G28 -> 68449.17 | H25: =H26+H28 -> 69784.026 | I25: =I26+I28 -> 72905.968 | J25: =J26+J28 -> 78410.194
B26: iš jų priskirta Pagrindiniam tinklui (pradinis lygis perdavimo Pagrindiniu tinklu paslaugų referencinėms kainoms nustatyti (už nuolatinius metų pajėgumų produktus)) | C26: TEUR | E26: 41364.908 | F26: 55566.797 | G26: 55415.772 | H26: 56576.811 | I26: 59036.258 | J26: 63085.507
B27: iš jų priskirta transportavimo į trečiąją šalį paslaugai | C27: TEUR | E27: 11442.758 | F27: 12868.14 | G27: 13447.641 | H27: 13672.615 | I27: 14352.617 | J27: 15717.912
B28: iš jų priskirta Lokaliam tinklui | C28: TEUR | E28: 19919.052 | F28: 13450.533 | G28: 13033.398 | H28: 13207.214 | I28: 13869.71 | J28: 15324.687
B29: iš jų priskirta Vidaus išleidimo taškui - Achema | C29: TEUR | E29: 1142.3785 | F29: 745.0821 | G29: 670.20827 | H29: 686.57809 | I29: 717.21359 | J29: 766.12488
B30: iš jų priskirta Vidaus išleidimo taškui | C30: TEUR | E30: =+E28-E29 -> 18776.673 | F30: =+F28-F29 -> 12705.451 | G30: =+G28-G29 -> 12363.189 | H30: =+H28-H29 -> 12520.636 | I30: =+I28-I29 -> 13152.496 | J30: =+J28-J29 -> 14558.562
B31: pajamų už vartojimo pajėgumus dalis Lokalaus tinklo paslaugų pajamose | C31: TEUR | E31: =+E32+E33 -> 13943.336 | F31: =+F32+F33 -> 9415.3729 | G31: =+G32+G33 -> 9123.3783 | H31: =+H32+H33 -> 9245.05 | I31: =+I32+I33 -> 9708.7968 | J31: =+J32+J33 -> 10727.281
B32: iš jų vidaus išleidimo taško - Achema | C32: TEUR | E32: =E29*E37 -> 799.66494 | F32: =F29*F37 -> 521.55747 | G32: =G29*G37 -> 469.14579 | H32: =H29*H37 -> 480.60467 | I32: =I29*I37 -> 502.04951 | J32: =J29*J37 -> 536.28741
B33: iš jų Vidaus išleidimo taškui | C33: TEUR | E33: =+E30*E37 -> 13143.671 | F33: =+F30*F37 -> 8893.8154 | G33: =+G30*G37 -> 8654.2325 | H33: =+H30*H37 -> 8764.4453 | I33: =+I30*I37 -> 9206.7473 | J33: =+J30*J37 -> 10190.994
B34: pajamų dalis už Lokalaus tinklo paslaugas priskirta už ilgalaikius pajėgus vidaus išleidimo taškuose | C34: TEUR | E34: =+E35+E36 -> 5975.7156 | F34: =+F35+F36 -> 4035.1598 | G34: =+G35+G36 -> 3910.0193 | H34: =+H35+H36 -> 3962.1643 | I34: =+I35+I36 -> 4160.9129 | J34: =+J35+J36 -> 4597.4062
B35: iš jų vidaus išleidimo taško - Achema | C35: TEUR | E35: =+E29-E32 -> 342.71354 | F35: =+F29-F32 -> 223.52463 | G35: =+G29-G32 -> 201.06248 | H35: =+H29-H32 -> 205.97343 | I35: =+I29-I32 -> 215.16408 | J35: =+J29-J32 -> 229.83746
B36: iš jų Vidaus išleidimo taškui | C36: TEUR | E36: =+E30-E33 -> 5633.002 | F36: =+F30-F33 -> 3811.6352 | G36: =+G30-G33 -> 3708.9568 | H36: =+H30-H33 -> 3756.1908 | I36: =+I30-I33 -> 3945.7488 | J36: =+J30-J33 -> 4367.5687
B37: pajamų už vartojimo pajėgumus dalis Lokalaus tinklo paslaugų pajamose | C37: % | E37: 0.7 | F37: 0.7 | G37: 0.7 | H37: 0.7 | I37: 0.7 | J37: 0.7
B38: pajamų dalis už Lokalaus tinklo paslaugas priskirta už ilgalaikius pajėgus vidaus išleidimo taškuose | C38: % | E38: =1-E37 -> 0.3 | F38: =1-F37 -> 0.3 | G38: =1-G37 -> 0.3 | H38: =1-H37 -> 0.3 | I38: =1-I37 -> 0.3 | J38: =1-J37 -> 0.3
B40: Reguliavimo sąskaitos priskyrimas Pagrindiniam ir Lokaliam tinklams: | C40: TEUR | E40: =E41+E43 -> -10866.96 | F40: =F41+F43 -> -7506.33 | G40: =G41+G43 -> -4621.06 | H40: =H41+H43 -> 0 | I40: =I41+I43 -> 0 | J40: =J41+J43 -> 0
B41: iš jų priskirta Pagrindiniam tinklui | C41: TEUR | E41: =E13*E42 -> -3518.0706 | F41: =F13*F42 -> -3361.0512 | G41: =G13*G42 -> -1689.6883 | H41: =H13*H42 -> 0 | I41: =I13*I42 -> 0 | J41: =J13*J42 -> 0
C42: % | E42: =1-E44 -> 0.32374009 | F42: =1-F44 -> 0.44776225 | G42: =1-G44 -> 0.3656495 | H42: =1-H44 -> 0.37121483 | I42: =1-I44 -> 0.37895943 | J42: =1-J44 -> 0.38584442
B43: iš jų priskirta Lokaliam tinklui | C43: TEUR | E43: =E13*E44 -> -7348.8894 | F43: =F13*F44 -> -4145.2788 | G43: =G13*G44 -> -2931.3717 | H43: =H13*H44 -> 0 | I43: =I13*I44 -> 0 | J43: =J13*J44 -> 0
C44: % | E44: =E28/(E28+((E69*E76+(E120-E124)*E94/1000)/(E98+E101+E99)*1000)*E101/1000+E14*E101/(E101+E98+E99)) -> 0.67625991 | F44: =F28/(F28+((F69*F76+(F120-F124)*F94/1000)/(F98+F101+F99)*1000)*F101/1000+F14*F101/(F101+F98+F99)) -> 0.55223775 | G44: =G28/(G28+((G69*G76+(G120-G124)*G94/1000)/(G98+G101+G99)*1000)*G101/1000+G14*G101/(G101+G98+G99)) -> 0.6343505 | H44: =H28/(H28+((H69*H76+(H120-H124)*H94/1000)/(H98+H101+H99)*1000)*H101/1000+H14*H101/(H101+H98+H99)) -> 0.62878517 | I44: =I28/(I28+((I69*I76+(I120-I124)*I94/1000)/(I98+I101+I99)*1000)*I101/1000+I14*I101/(I101+I98+I99)) -> 0.62104057 | J44: =J28/(J28+((J69*J76+(J120-J124)*J94/1000)/(J98+J101+J99)*1000)*J101/1000+J14*J101/(J101+J98+J99)) -> 0.61415558
B46: LP priskyrimas paslaugoms po Reguliavimo sąskaitos įvertinimo: | C46: TEUR | E46: =E47+E49 -> 50417 | F46: =F47+F49 -> 61511 | G46: =G47+G49 -> 63828.11 | H46: =H47+H49 -> 69784.026 | I46: =I47+I49 -> 72905.968 | J46: =J47+J49 -> 78410.194
B47: iš jų priskirta Pagrindiniam tinklui (lygis perdavimo Pagrindiniu tinklu paslaugų referencinėms kainoms nustatyti (už nuolatinius metų pajėgumų produktus)) | C47: TEUR | E47: =E26+E41 -> 37846.837 | F47: =F26+F41 -> 52205.746 | G47: =G26+G41 -> 53726.084 | H47: =H26+H41 -> 56576.811 | I47: =I26+I41 -> 59036.258 | J47: =J26+J41 -> 63085.507
...

Sheet DG_SK, Trumpal. kainos
B1: Perdavimo paslaugų trumpalaikių nuolatinių pajėgumų produktų kainos
B3: Liepa, 2024
B4: Turi būti pildomi tik mėlyni laukeliai
B6: DAUGIKLIAI, SEZONINIAI KOEFICIENTAI, DIENŲ SKAIČIUS PAGAL PERIODUS:
B8: Kalendorinių dienų bei valandų skaičius metuose/ketvirčiuose/mėnesiuose:
B9: Tarifiniai metai | C9: Dienų skaičius metuose | D9: Dienų skaičius ketvirtyje (K) | H9: Dienų skaičius mėnesyje (M) | T9: Valandų skaičius metuose | U9: Dienų skaičius ketvirtyje (K) | Y9: Dienų skaičius mėnesyje (M)
D10: I K | E10: II K | F10: III K | G10: IV K | H10: Sau | I10: Vas | J10: Kov | K10: Bal | L10: Geg | M10: Bir | N10: Lie | O10: Rgp | P10: Rgs | Q10: Spl | R10: Lap | S10: Grd | U10: I K | V10: II K | W10: III K | X10: IV K | Y10: Sau | Z10: Vas | AA10: Kov | AB10: Bal | AC10: Geg | AD10: Bir | AE10: Lie | AF10: Rgp | AG10: Rgs | AH10: Spl | AI10: Lap | AJ10: Grd
B11: 2023 | C11: 365 | D11: 90 | E11: 91 | F11: 92 | G11: 92 | H11: 31 | I11: 28 | J11: 31 | K11: 30 | L11: 31 | M11: 30 | N11: 31 | O11: 31 | P11: 30 | Q11: 31 | R11: 30 | S11: 31 | T11: 8760 | U11: 2160 | V11: 2184 | W11: 2208 | X11: 2208 | Y11: 744 | Z11: 672 | AA11: 744 | AB11: 720 | AC11: 744 | AD11: 720 | AE11: 744 | AF11: 744 | AG11: 720 | AH11: 744 | AI11: 720 | AJ11: 744
B12: 2024 | C12: 366 | D12: 91 | E12: 91 | F12: 92 | G12: 92 | H12: 31 | I12: 29 | J12: 31 | K12: 30 | L12: 31 | M12: 30 | N12: 31 | O12: 31 | P12: 30 | Q12: 31 | R12: 30 | S12: 31 | T12: 8784 | U12: 2184 | V12: 2184 | W12: 2208 | X12: 2208 | Y12: 744 | Z12: 696 | AA12: 744 | AB12: 720 | AC12: 744 | AD12: 720 | AE12: 744 | AF12: 744 | AG12: 720 | AH12: 744 | AI12: 720 | AJ12: 744
B13: 2025 | C13: 365 | D13: 90 | E13: 91 | F13: 92 | G13: 92 | H13: 31 | I13: 28 | J13: 31 | K13: 30 | L13: 31 | M13: 30 | N13: 31 | O13: 31 | P13: 30 | Q13: 31 | R13: 30 | S13: 31 | T13: 8760 | U13: 2160 | V13: 2184 | W13: 2208 | X13: 2208 | Y13: 744 | Z13: 672 | AA13: 744 | AB13: 720 | AC13: 744 | AD13: 720 | AE13: 744 | AF13: 744 | AG13: 720 | AH13: 744 | AI13: 720 | AJ13: 744
B14: 2026 | C14: 365 | D14: 90 | E14: 91 | F14: 92 | G14: 92 | H14: 31 | I14: 28 | J14: 31 | K14: 30 | L14: 31 | M14: 30 | N14: 31 | O14: 31 | P14: 30 | Q14: 31 | R14: 30 | S14: 31 | T14: 8760 | U14: 2160 | V14: 2184 | W14: 2208 | X14: 2208 | Y14: 744 | Z14: 672 | AA14: 744 | AB14: 720 | AC14: 744 | AD14: 720 | AE14: 744 | AF14: 744 | AG14: 720 | AH14: 744 | AI14: 720 | AJ14: 744
B15: 2027 | C15: 365 | D15: 90 | E15: 91 | F15: 92 | G15: 92 | H15: 31 | I15: 28 | J15: 31 | K15: 30 | L15: 31 | M15: 30 | N15: 31 | O15: 31 | P15: 30 | Q15: 31 | R15: 30 | S15: 31 | T15: 8760 | U15: 2160 | V15: 2184 | W15: 2208 | X15: 2208 | Y15: 744 | Z15: 672 | AA15: 744 | AB15: 720 | AC15: 744 | AD15: 720 | AE15: 744 | AF15: 744 | AG15: 720 | AH15: 744 | AI15: 720 | AJ15: 744
B16: 2028 | C16: 366 | D16: 91 | E16: 91 | F16: 92 | G16: 92 | H16: 31 | I16: 29 | J16: 31 | K16: 30 | L16: 31 | M16: 30 | N16: 31 | O16: 31 | P16: 30 | Q16: 31 | R16: 30 | S16: 31 | T16: 8784 | U16: 2184 | V16: 2184 | W16: 2208 | X16: 2208 | Y16: 744 | Z16: 696 | AA16: 744 | AB16: 720 | AC16: 744 | AD16: 720 | AE16: 744 | AF16: 744 | AG16: 720 | AH16: 744 | AI16: 720 | AJ16: 744
B18: Daugikliai (DG) (ketvirčio (K), mėnesio (M), paros/einamosios paros (P/EP) pajėgumų produktams):
B19: Tariff year | D19: Visiems įleidimo taškams | H19: (LT>LV) Kiemėnų išleidimo taškui (LT>PL) Santakos išleidimo taškui | L19: (LT) Vidiniam(s) ir Šakių išleidimo taškams
D20: K | E20: M | F20: P | G20: EP | H20: K | I20: M | J20: P | K20: EP | L20: K | M20: M | N20: P/EP
B21: 2023 | D21: 1.1 | E21: 1.25 | F21: 1.5 | G21: 1.5 | H21: 1.1 | I21: 1.25 | J21: 1.5 | K21: 1.5 | L21: 1.25 | M21: 1.5 | N21: 3
B22: 2024 | D22: 1.1 | E22: 1.25 | F22: 1.5 | G22: 1.7 | H22: 1.1 | I22: 1.25 | J22: 1.5 | K22: 1.7 | L22: 1.25 | M22: 1.5 | N22: 3
B23: 2025 | D23: 1.1 | E23: 1.25 | F23: 1.5 | G23: 1.7 | H23: 1.1 | I23: 1.25 | J23: 1.5 | K23: 1.7 | L23: 1.25 | M23: 1.5 | N23: 3
B24: 2026 | D24: 1.1 | E24: 1.25 | F24: 1.5 | G24: 1.7 | H24: 1.1 | I24: 1.25 | J24: 1.5 | K24: 1.7 | L24: 1.25 | M24: 1.5 | N24: 3
B25: 2027 | D25: 1.1 | E25: 1.25 | F25: 1.5 | G25: 1.7 | H25: 1.1 | I25: 1.25 | J25: 1.5 | K25: 1.7 | L25: 1.25 | M25: 1.5 | N25: 3
B26: 2028 | D26: 1.1 | E26: 1.25 | F26: 1.5 | G26: 1.7 | H26: 1.1 | I26: 1.25 | J26: 1.5 | K26: 1.7 | L26: 1.25 | M26: 1.5 | N26: 3
B28: Sezoniniai koeficientai (SK):
B29: SK (LT) Vidiniam išleidimo taškui:
B30: Tarifiniai metai | D30: Ketvirčio produktams | H30: Mėnesio produktams | T30: Paros/einamosios paros produktams
D31: I K | E31: II K | F31: III K | G31: IV K | H31: Sau | I31: Vas | J31: Kov | K31: Bal | L31: Geg | M31: Bir | N31: Lie | O31: Rgp | P31: Rgs | Q31: Spl | R31: Lap | S31: Grd | T31: Sau | U31: Vas | V31: Kov | W31: Bal | X31: Geg | Y31: Bir | Z31: Lie | AA31: Rgp | AB31: Rgs | AC31: Spl | AD31: Lap | AE31: Grd
B32: 2023 | D32: 1.53 | E32: 0.64 | F32: 0.49 | G32: 1.34 | H32: 1.82 | I32: 1.37 | J32: 1.41 | K32: 0.81 | L32: 0.61 | M32: 0.49 | N32: 0.39 | O32: 0.46 | P32: 0.62 | Q32: 1.07 | R32: 1.35 | S32: 1.6 | T32: 1.82 | U32: 1.37 | V32: 1.41 | W32: 0.81 | X32: 0.61 | Y32: 0.49 | Z32: 0.39 | AA32: 0.46 | AB32: 0.62 | AC32: 1.07 | AD32: 1.35 | AE32: 1.6
B33: 2024 | D33: =+'SK skaičiavimas_Vieningi'!C56 -> 1.5 | E33: =+'SK skaičiavimas_Vieningi'!D56 -> 0.7 | F33: =+'SK skaičiavimas_Vieningi'!E56 -> 0.49 | G33: =+'SK skaičiavimas_Vieningi'!F56 -> 1.31 | H33: =+'SK skaičiavimas_Vieningi'!C53 -> 1.73 | I33: =+'SK skaičiavimas_Vieningi'!D53 -> 1.36 | J33: =+'SK skaičiavimas_Vieningi'!E53 -> 1.39 | K33: =+'SK skaičiavimas_Vieningi'!F53 -> 0.89 | L33: =+'SK skaičiavimas_Vieningi'!G53 -> 0.7 | M33: =+'SK skaičiavimas_Vieningi'!H53 -> 0.53 | N33: =+'SK skaičiavimas_Vieningi'!I53 -> 0.43 | O33: =+'SK skaičiavimas_Vieningi'!J53 -> 0.48 | ... S33: =+'SK skaičiavimas_Vieningi'!N53 -> 1.66 | T33: =+'SK skaičiavimas_Vieningi'!C54 -> 1.73 | U33: =+'SK skaičiavimas_Vieningi'!D54 -> 1.36 | V33: =+'SK skaičiavimas_Vieningi'!E54 -> 1.39 | W33: =+'SK skaičiavimas_Vieningi'!F54 -> 0.89 | X33: =+'SK skaičiavimas_Vieningi'!G54 -> 0.7 | Y33: =+'SK skaičiavimas_Vieningi'!H54 -> 0.53 | Z33: =+'SK skaičiavimas_Vieningi'!I54 -> 0.43 | AA33: =+'SK skaičiavimas_Vieningi'!J54 -> 0.48 | ... AE33: =+'SK skaičiavimas_Vieningi'!N54 -> 1.66
B34: 2025 | D34: =D33 -> 1.5 | E34: =E33 -> 0.7 | F34: =F33 -> 0.49 | G34: =G33 -> 1.31 | H34: =H33 -> 1.73 | I34: =I33 -> 1.36 | J34: =J33 -> 1.39 | K34: =K33 -> 0.89 | ... AE34: =AE33 -> 1.66
B35: 2026 | D35: =D34 -> 1.5 | E35: =E34 -> 0.7 | F35: =F34 -> 0.49 | G35: =G34 -> 1.31 | H35: =H34 -> 1.73 | I35: =I34 -> 1.36 | J35: =J34 -> 1.39 | K35: =K34 -> 0.89 | ... AE35: =AE34 -> 1.66
B36: 2027 | D36: =D35 -> 1.5 | E36: =E35 -> 0.7 | F36: =F35 -> 0.49 | G36: =G35 -> 1.31 | H36: =H35 -> 1.73 | I36: =I35 -> 1.36 | J36: =J35 -> 1.39 | K36: =K35 -> 0.89 | ... AE36: =AE35 -> 1.66
B37: 2028 | D37: =D36 -> 1.5 | E37: =E36 -> 0.7 | F37: =F36 -> 0.49 | G37: =G36 -> 1.31 | H37: =H36 -> 1.73 | I37: =I36 -> 1.36 | J37: =J36 -> 1.39 | K37: =K36 -> 0.89 | ... AE37: =AE36 -> 1.66
B39: SK (LT>RU) Šakių išleidimo taškui:
B40: Tarifiniai metai | D40: Ketvirčio produktams | H40: Mėnesio produktams | T40: Paros/einamosios paros produktams
D41: I K | E41: II K | F41: III K | G41: IV K | H41: Sau | I41: Vas | J41: Kov | K41: Bal | L41: Geg | M41: Bir | N41: Lie | O41: Rgp | P41: Rgs | Q41: Spl | R41: Lap | S41: Grd | T41: Sau | U41: Vas | V41: Kov | W41: Bal | X41: Geg | Y41: Bir | Z41: Lie | AA41: Rgp | AB41: Rgs | AC41: Spl | AD41: Lap | AE41: Grd
B42: 2023 | D42: 1.53 | E42: 0.64 | F42: 0.49 | G42: 1.34 | H42: 1.82 | I42: 1.37 | J42: 1.41 | K42: 0.81 | L42: 0.61 | M42: 0.49 | N42: 0.39 | O42: 0.46 | P42: 0.62 | Q42: 1.07 | R42: 1.35 | S42: 1.6 | T42: 1.82 | U42: 1.37 | V42: 1.41 | W42: 0.81 | X42: 0.61 | Y42: 0.49 | Z42: 0.39 | AA42: 0.46 | AB42: 0.62 | AC42: 1.07 | AD42: 1.35 | AE42: 1.6
B43: 2024 | D43: =+'SK skaičiavimas_Vieningi'!C56 -> 1.5 | E43: =+'SK skaičiavimas_Vieningi'!D56 -> 0.7 | F43: =+'SK skaičiavimas_Vieningi'!E56 -> 0.49 | G43: =+'SK skaičiavimas_Vieningi'!F56 -> 1.31 | H43: =+'SK skaičiavimas_Vieningi'!C53 -> 1.73 | I43: =+'SK skaičiavimas_Vieningi'!D53 -> 1.36 | J43: =+'SK skaičiavimas_Vieningi'!E53 -> 1.39 | K43: =+'SK skaičiavimas_Vieningi'!F53 -> 0.89 | L43: =+'SK skaičiavimas_Vieningi'!G53 -> 0.7 | M43: =+'SK skaičiavimas_Vieningi'!H53 -> 0.53 | N43: =+'SK skaičiavimas_Vieningi'!I53 -> 0.43 | O43: =+'SK skaičiavimas_Vieningi'!J53 -> 0.48 | ... S43: =+'SK skaičiavimas_Vieningi'!N53 -> 1.66 | T43: =+'SK skaičiavimas_Vieningi'!C54 -> 1.73 | U43: =+'SK skaičiavimas_Vieningi'!D54 -> 1.36 | V43: =+'SK skaičiavimas_Vieningi'!E54 -> 1.39 | W43: =+'SK skaičiavimas_Vieningi'!F54 -> 0.89 | X43: =+'SK skaičiavimas_Vieningi'!G54 -> 0.7 | Y43: =+'SK skaičiavimas_Vieningi'!H54 -> 0.53 | Z43: =+'SK skaičiavimas_Vieningi'!I54 -> 0.43 | AA43: =+'SK skaičiavimas_Vieningi'!J54 -> 0.48 | ... AE43: =+'SK skaičiavimas_Vieningi'!N54 -> 1.66
B44: 2025 | D44: =D43 -> 1.5 | E44: =E43 -> 0.7 | F44: =F43 -> 0.49 | G44: =G43 -> 1.31 | H44: =H43 -> 1.73 | I44: =I43 -> 1.36 | J44: =J43 -> 1.39 | K44: =K43 -> 0.89 | ... AE44: =AE43 -> 1.66
B45: 2026 | D45: =D44 -> 1.5 | E45: =E44 -> 0.7 | F45: =F44 -> 0.49 | G45: =G44 -> 1.31 | H45: =H44 -> 1.73 | I45: =I44 -> 1.36 | J45: =J44 -> 1.39 | K45: =K44 -> 0.89 | ... AE45: =AE44 -> 1.66
B46: 2027 | D46: =D45 -> 1.5 | E46: =E45 -> 0.7 | F46: =F45 -> 0.49 | G46: =G45 -> 1.31 | H46: =H45 -> 1.73 | I46: =I45 -> 1.36 | J46: =J45 -> 1.39 | K46: =K45 -> 0.89 | ... AE46: =AE45 -> 1.66
...

Sheet SK skaičiavimas_Vieningi
B1: Sezoninių koeficientų (SK) skaičiavimas 2023 m. (LT) Vidiniame išleidimo taške (-uose) ir (LT>RU) Šakių išleidimo taške likusiam Reguliavimo periodui (2024-2028)
B2: Kaip reikalaujama pagal TAR NC 15 straipsnį
B3: Liepa, 2024
B4: Turi būti pildomi tik mėlyni laukeliai
B6: 1 žingsnis: Straipsnis 15(3)(a), (b): "a) perdavimo sistemos naudojimas kiekvieną gamtinių dujų tiekimo metų mėnesį turi būti apskaičiuojamas pagal prognozuojamus srautus arba prognozuojamą užsakytą pajėgumą<...>", "b) a punkte nurodytos gautos vertės turi būti sudedamos;"
C7: Prognozuojami srautai kiekvieną dujų mėnesį
C8: Sau | D8: Vas | E8: Kov | F8: Bal | G8: Geg | H8: Bir | I8: Lie | J8: Rgp | K8: Rgs | L8: Spl | M8: Lap | N8: Grd | O8: Iš viso
B9: Vidutiis (2019-2015) dujų srautas Vidiniame išleidimo taške (-uose) ir Šakių išleidimo taške m., MWh: | C9: 5647857.2 | D9: 5007489.6 | E9: 5059768.5 | F9: 4041409.5 | G9: 3583226.8 | H9: 3121479.9 | I9: 2828904.3 | J9: 2965615.7 | K9: 3207845 | L9: 4244201.6 | M9: 4861286.9 | N9: 5533297.6 | O9: =SUM(C9:N9) -> 50102383
B11: 2 žingsnis: Straipsnis 15(3)(c): "c) naudojimo rodiklis turi būti apskaičiuojamas kiekvieną a punkte nurodytą vertę padalijant iš b punkte nurodytos gautos vertės;"
C12: Dujų mėnesiai
C13: Sau | D13: Vas | E13: Kov | F13: Bal | G13: Geg | H13: Bir | I13: Lie | J13: Rgp | K13: Rgs | L13: Spl | M13: Lap | N13: Grd | O13: Iš viso
B14: Naudojimo rodiklis: | C14: =C9/$O$9 -> 0.11272632 | D14: =D9/$O$9 -> 0.09994514 | E14: =E9/$O$9 -> 0.10098858 | F14: =F9/$O$9 -> 0.080663021 | G14: =G9/$O$9 -> 0.071518092 | H14: =H9/$O$9 -> 0.062302026 | I14: =I9/$O$9 -> 0.05646247 | J14: =J9/$O$9 -> 0.059191111 | ... N14: =N9/$O$9 -> 0.11043981 | O14: =SUM(C14:N14) -> 1
B16: 3 žingsnis: Straipsnis 15(3)(d): "d) kiekviena c punkte nurodyta gauta vertė turi būti padauginama iš 12. Jei gautos vertės yra lygios 0, tos vertės turi būti koreguojamos iki mažesniosios iš šių verčių: 0,1 arba kitos nei 0 mažiausios gautos vertės;"
C17: Dujų mėnesiai
C18: Sau | D18: Vas | E18: Kov | F18: Bal | G18: Geg | H18: Bir | I18: Lie | J18: Rgp | K18: Rgs | L18: Spl | M18: Lap | N18: Grd
B19: Naudojimo rodiklis x 12: | C19: =IF(C14>0,C14*12,MIN(0.1,SMALL($C$14:$N$14,COUNTIF($C$14:$N$14,0)+1))*12) -> 1.3527158 | D19: =IF(D14>0,D14*12,MIN(0.1,SMALL($C$14:$N$14,COUNTIF($C$14:$N$14,0)+1))*12) -> 1.1993417 | E19: =IF(E14>0,E14*12,MIN(0.1,SMALL($C$14:$N$14,COUNTIF($C$14:$N$14,0)+1))*12) -> 1.211863 | F19: =IF(F14>0,F14*12,MIN(0.1,SMALL($C$14:$N$14,COUNTIF($C$14:$N$14,0)+1))*12) -> 0.96795625 | G19: =IF(G14>0,G14*12,MIN(0.1,SMALL($C$14:$N$14,COUNTIF($C$14:$N$14,0)+1))*12) -> 0.8582171 | H19: =IF(H14>0,H14*12,MIN(0.1,SMALL($C$14:$N$14,COUNTIF($C$14:$N$14,0)+1))*12) -> 0.74762431 | I19: =IF(I14>0,I14*12,MIN(0.1,SMALL($C$14:$N$14,COUNTIF($C$14:$N$14,0)+1))*12) -> 0.67754964 | J19: =IF(J14>0,J14*12,MIN(0.1,SMALL($C$14:$N$14,COUNTIF($C$14:$N$14,0)+1))*12) -> 0.71029333 | ... N19: =IF(N14>0,N14*12,MIN(0.1,SMALL($C$14:$N$14,COUNTIF($C$14:$N$14,0)+1))*12) -> 1.3252777
B21: 4 žingsnis: Straipsnis 15(3)(e): "e) pradinis atitinkamų sezoninių koeficientų dydis turi būti apskaičiuojamas kiekvieną d punkte nurodytą vertę pakeliant tuo pačiu laipsniu, kuris ne mažesnis už 0 ir ne didesnis už 2;"
C22: Dujų mėnesiai
C23: Sau | D23: Vas | E23: Kov | F23: Bal | G23: Geg | H23: Bir | I23: Lie | J23: Rgp | K23: Rgs | L23: Spl | M23: Lap | N23: Grd
B24: Naudojimo rodiklis x 12 ^ laipsniu (pradinis SK): | C24: =C19^$C$25 -> 1.8298401 | D24: =D19^$C$25 -> 1.4384205 | E24: =E19^$C$25 -> 1.4686118 | F24: =F19^$C$25 -> 0.9369393 | G24: =G19^$C$25 -> 0.73653659 | H24: =H19^$C$25 -> 0.55894211 | I24: =I19^$C$25 -> 0.45907351 | J24: =J19^$C$25 -> 0.50451661 | ... N24: =N19^$C$25 -> 1.7563611
B25: Laipsnis (0-2) | C25: 2
B27: 5 žingsnis: Straipsnis 15(3)(f): "f) turi būti apskaičiuojamas e punkte nurodytų gautų verčių ir mėnesio tipinių pajėgumo produktų daugiklio sandaugų aritmetinis vidurkis;" Straipsnis 15(4): "Paros tipinių nuolatinio pajėgumo produktų ir einamosios paros tipinių nuolatinio pajėgumo produktų sezoniniai koeficientai turi būti apskaičiuojami 3 dalies f–h punktuose nustatyta seka, mutatis mutandis."
C28: Dujų mėnesiai
C29: Sau | D29: Vas | E29: Kov | F29: Bal | G29: Geg | H29: Bir | I29: Lie | J29: Rgp | K29: Rgs | L29: Spl | M29: Lap | N29: Grd | O29: Vidurkis
B30: Pradinis SK x Mėnesio daugiklis: | C30: =C24*$C$33 -> 2.7447602 | D30: =D24*$C$33 -> 2.1576307 | E30: =E24*$C$33 -> 2.2029177 | F30: =F24*$C$33 -> 1.405409 | G30: =G24*$C$33 -> 1.1048049 | H30: =H24*$C$33 -> 0.83841317 | I30: =I24*$C$33 -> 0.68861027 | J30: =J24*$C$33 -> 0.75677492 | ... N30: =N24*$C$33 -> 2.6345416 | O30: =AVERAGE(C30:N30) -> 1.583565
B31: Pradinis SK x Paros/einamosios paros daugiklis: | C31: =C24*$C$34 -> 5.4895203 | D31: =D24*$C$34 -> 4.3152614 | E31: =E24*$C$34 -> 4.4058355 | F31: =F24*$C$34 -> 2.8108179 | G31: =G24*$C$34 -> 2.2096098 | H31: =H24*$C$34 -> 1.6768263 | I31: =I24*$C$34 -> 1.3772205 | J31: =J24*$C$34 -> 1.5135498 | ... N31: =N24*$C$34 -> 5.2690832 | O31: =AVERAGE(C31:N31) -> 3.16713
B33: Mėnesio daugiklis | C33: ='DG_SK, Trumpal. kainos'!M22 -> 1.5
B34: Paros/einamosios paros daugiklis | C34: ='DG_SK, Trumpal. kainos'!N22 -> 3
B36: 6 žingsnis: Straipsnis 15(3)(g): "g) f punkte nurodyta gauta vertė turi būti palyginama su 13 straipsnio 1 dalyje nurodytu intervalu taip: (i) jei ši vertė patenka į intervalą, sezoninių koeficientų dydis turi būti lygus atitinkamoms e punkte nurodytoms gautoms vertėms; (ii) jei ši vertė į intervalą nepatenka, taikomas h punktas;" Straipsnis 13(1): "13<..>1. Daugiklių dydžio intervalai šie: (a) ketvirčio tipinių pajėgumo produktų ir mėnesio tipinių pajėgumo produktų atitinkamas daugiklis turi būti ne mažesnis kaip 1 ir ne didesnis kaip 1,5; (b) paros tipinių pajėgumo produktų ir einamosios paros tipinių pajėgumo produktų atitinkamas daugiklis turi būti ne mažesnis kaip 1 ir ne didesnis kaip 3. Tinkamai pagrįstais atvejais nurodyti daugikliai gali būti mažesni kaip 1, bet didesni kaip 0, arba didesni kaip 3. Straipsnis 15(3)(h): "h) sezoninių koeficientų dydis turi būti apskaičiuojamas kaip atitinkamų e punkte nurodytų gautų verčių ir pataisos koeficiento sandauga, laikantis šių sąlygų: i) jei f punkte nurodyta gauta vertė yra didesnė kaip 1,5, pataisos koeficientas turi būti apskaičiuojamas 1,5 padalijant iš šios vertės; ii) jei f punkte nurodyta gauta vertė yra mažesnė kaip 1, pataisos koeficientas turi būti apskaičiuojamas 1 padalijant iš šios vertės."
C37: Dujų mėnesiai
C38: Sau | D38: Vas | E38: Kov | F38: Bal | G38: Geg | H38: Bir | I38: Lie | J38: Rgp | K38: Rgs | L38: Spl | M38: Lap | N38: Grd
B39: Mėnesio SK (pradinis SK x pataisos koeficientas): | C39: =C24*$C$42 -> 1.7332791 | D39: =D24*$C$42 -> 1.3625147 | E39: =E24*$C$42 -> 1.3911129 | F39: =F24*$C$42 -> 0.88749684 | G39: =G24*$C$42 -> 0.69766942 | H39: =H24*$C$42 -> 0.52944663 | I39: =I24*$C$42 -> 0.43484812 | J39: =J24*$C$42 -> 0.47789318 | ... N39: =N24*$C$42 -> 1.6636776
B40: Paros/einam. paros SK (pradinis SF x pataisos koef.): | C40: =C24*$C$43 -> 1.7332791 | D40: =D24*$C$43 -> 1.3625147 | E40: =E24*$C$43 -> 1.3911129 | F40: =F24*$C$43 -> 0.88749684 | G40: =G24*$C$43 -> 0.69766942 | H40: =H24*$C$43 -> 0.52944663 | I40: =I24*$C$43 -> 0.43484812 | J40: =J24*$C$43 -> 0.47789318 | ... N40: =N24*$C$43 -> 1.6636776
B42: Pataisos koeficientas: Mėnesio | C42: =IF(O30>1.5,1.5/O30,IF(O30<1,1/O30,1)) -> 0.94722981
B43: Pataisos koeficientas: Paros/einamosios paros | C43: =IF(O31>3,3/O31,IF(O31<1,1/O31,1)) -> 0.94722981
B45: 7 žingsnis: Straipsnis 15(5): "Ketvirčio tipinių nuolatinio pajėgumo produktų sezoniniai koeficientai turi būti apskaičiuojami šia seka: (a) pradinis atitinkamų sezoninių koeficientų dydis turi būti apskaičiuojamas pagal vieną iš šių sąlygų: (i) koeficientas yra lygus atitinkamų sezoninių koeficientų, taikomų tris susijusius mėnesius, paprastam aritmetiniam vidurkiui; (ii) koeficientas yra ne mažesnis už mažiausiąjį ir ne didesnis už didžiausiąjį iš atitinkamų sezoninių koeficientų, taikomų tris susijusius mėnesius; (b) 3 dalies f–h punktuose nustatyti žingsniai turi būti atlikti naudojant a punkte nurodytas gautas vertes, mutatis mutandis.“
C46: Dujų ketvirčiai
C47: I K | D47: II K | E47: III K | F47: IV K
B48: Ketvirčio SK: | C48: =AVERAGE(C39:E39) -> 1.4956356 | D48: =AVERAGE(F39:H39) -> 0.70487096 | E48: =AVERAGE(I39:K39) -> 0.49063022 | F48: =AVERAGE(L39:N39) -> 1.3088632
B50: 8 žingsnis: Straipsnis 15(6): "Ne metų tipinių nuolatinio pajėgumo produktų atveju 3–5 dalyse nurodytu skaičiavimu gautos vertės gali būti apvalinamos (didinamos arba mažinamos)."
...
